BEGIN:VCALENDAR
VERSION:2.0
PRODID:-//Date iCal v2.14-dev//NONSGML kigkonsult.se iCalcreator 2.16.6//
METHOD:PUBLISH
X-WR-CALNAME;VALUE=TEXT:Greater Baltimore Cultural Alliance
BEGIN:VTIMEZONE
TZID:America/New_York
BEGIN:STANDARD
DTSTART:20251102T020000
TZOFFSETFROM:-0400
TZOFFSETTO:-0500
RDATE:20261101T020000
TZNAME:EST
END:STANDARD
BEGIN:DAYLIGHT
DTSTART:20260308T020000
TZOFFSETFROM:-0500
TZOFFSETTO:-0400
TZNAME:EDT
END:DAYLIGHT
END:VTIMEZONE
BEGIN:VEVENT
UID:calendar.39692.field_fc_date.0@culturefly.org
DTSTAMP:20260421T152855Z
ATTACH;FMTTYPE=image/jpeg:https://culturefly.org/sites/default/files/event-
 image/HUMID%20GIRL%20SUMMER.jpg
CATEGORIES:Performance,Lectures/ Workshops,Activities,Nightlife
CREATED:20251125T191110Z
DESCRIPTION:Join Baltimore's own Hannah Alden Jeffrey and at least one of h
 er friends  THIS FRIDAY, November 25 at the Baltimore Improv Group for a 
 hilarious show  full of chaos and characters! Spend Thanksgiving with the 
 family, then head  to the show Friday for a night of laughs you'll be tha
 nkful you saw!
DTSTART;TZID=America/New_York:20251128T210000
DTEND;TZID=America/New_York:20251128T220000
LAST-MODIFIED:20251126T141248Z
LOCATION:Baltimore Improv Group, 1727 North Charles Street, Baltimore, M
 D
SUMMARY:Hannah and Friends LIVE: A Hilarious Character Show!
URL:https://www.bigimprov.org/event-details-registration/hannah-and-friends
X-GBCA-NID:39692
END:VEVENT
END:VCALENDAR
