BEGIN:VCALENDAR
VERSION:2.0
PRODID:-//Date iCal v2.14-dev//NONSGML kigkonsult.se iCalcreator 2.16.6//
METHOD:PUBLISH
X-WR-CALNAME;VALUE=TEXT:Greater Baltimore Cultural Alliance
BEGIN:VTIMEZONE
TZID:America/New_York
BEGIN:STANDARD
DTSTART:20261101T020000
TZOFFSETFROM:-0400
TZOFFSETTO:-0500
TZNAME:EST
END:STANDARD
BEGIN:DAYLIGHT
DTSTART:20270314T020000
TZOFFSETFROM:-0500
TZOFFSETTO:-0400
TZNAME:EDT
END:DAYLIGHT
END:VTIMEZONE
BEGIN:VEVENT
UID:calendar.39608.field_fc_date.0@culturefly.org
DTSTAMP:20260420T220322Z
ATTACH;FMTTYPE=image/jpeg:https://culturefly.org/sites/default/files/event-
 image/Sensory_eb_2160x1080-1024x512-3_6.jpg
CATEGORIES:Activities
CREATED:20251111T132819Z
DESCRIPTION:At the B&O, select Sundays are dedicated to Sensory Awareness.
  These days  feature environmental accommodations—such as no music, low l
 ighting, quiet  areas, and extra signage for sound effects—along with se
 nsory-friendly  activities like kids’ crafts, train rides, and tours. Gu
 ests also have  access to helpful resources, including sensory kits, soc
 ial stories, and a  community table. This June's theme is Under the Sea. 
 We will be making Ocean  Animal Masks and going on our 'Environmental Impa
 cts' tour.
DTSTART;TZID=America/New_York:20260607T100000
DTEND;TZID=America/New_York:20260607T160000
GEO:+39.285422;-76.632745
LAST-MODIFIED:20251118T174957Z
LOCATION:B&O Railroad Museum, 901 W. Pratt Street, Baltimore, MD
SUMMARY:Sensory Sundays- Under the Sea
URL:https://borail.events/SensorySundays
X-GBCA-NID:39608
END:VEVENT
END:VCALENDAR
