BEGIN:VCALENDAR
VERSION:2.0
PRODID:-//Date iCal v2.14-dev//NONSGML kigkonsult.se iCalcreator 2.16.6//
METHOD:PUBLISH
X-WR-CALNAME;VALUE=TEXT:Greater Baltimore Cultural Alliance
BEGIN:VTIMEZONE
TZID:America/New_York
BEGIN:STANDARD
DTSTART:20251102T020000
TZOFFSETFROM:-0400
TZOFFSETTO:-0500
RDATE:20261101T020000
TZNAME:EST
END:STANDARD
BEGIN:DAYLIGHT
DTSTART:20260308T020000
TZOFFSETFROM:-0500
TZOFFSETTO:-0400
TZNAME:EDT
END:DAYLIGHT
END:VTIMEZONE
BEGIN:VEVENT
UID:calendar.39127.field_fc_date.0@culturefly.org
DTSTAMP:20260420T084537Z
ATTACH;FMTTYPE=image/png:https://culturefly.org/sites/default/files/event-i
 mage/5_4.png
CATEGORIES:Nightlife,Other
CREATED:20251031T040354Z
DESCRIPTION:Watch as the life of a leader of a menacing group of deviants e
 xplodes in a  spectacle of debauchery. Accidentally filmed from beginning 
 to end, on  purpose. Come roll around in the filth with MdFF and the Swee
 t Sixteens  Cinema Project as we present a super-rare 16mm print of MULTIP
 LE MANIACS from  the godfather of filth himself, Baltimore's own John Wat
 ers. Come for Lady  Divine's Cavalcade of Perversions, stay for the sense
 less murders and the  film debut of Dame Edith Massey...it's a CELLULOID A
 TROCITY presented on  actual celluloid for the first time IN THE 21ST CENT
 URY!
DTSTART;TZID=America/New_York:20251107T213000
DTEND;TZID=America/New_York:20251107T233000
LAST-MODIFIED:20251104T142403Z
LOCATION:SNF Parkway Theatre , 5 West North Avenue, Baltimore, MD
SUMMARY:MULTIPLE MANIACS (55th Anniversary) - Presented on 16mm
URL:https://mdfilmfest.eventive.org/schedule/multiple-maniacs-55th-annivers
 ary-presented-on-16mm-68ed9c1def9e7529227da9e3/tickets
X-GBCA-NID:39127
END:VEVENT
END:VCALENDAR
