BEGIN:VCALENDAR
VERSION:2.0
PRODID:-//Date iCal v2.14-dev//NONSGML kigkonsult.se iCalcreator 2.16.6//
METHOD:PUBLISH
X-WR-CALNAME;VALUE=TEXT:Greater Baltimore Cultural Alliance
BEGIN:VTIMEZONE
TZID:America/New_York
BEGIN:STANDARD
DTSTART:20251102T020000
TZOFFSETFROM:-0400
TZOFFSETTO:-0500
RDATE:20261101T020000
TZNAME:EST
END:STANDARD
BEGIN:DAYLIGHT
DTSTART:20260308T020000
TZOFFSETFROM:-0500
TZOFFSETTO:-0400
TZNAME:EDT
END:DAYLIGHT
END:VTIMEZONE
BEGIN:VEVENT
UID:calendar.39088.field_fc_date.0@culturefly.org
DTSTAMP:20260420T132549Z
ATTACH;FMTTYPE=image/png:https://culturefly.org/sites/default/files/event-i
 mage/November%208%2C%207pm.png
CATEGORIES:Performance,Nightlife
CREATED:20251026T160153Z
DESCRIPTION:Highwire Improv is your weekend laugh destination. No scripts,
  just laughs  — every weekend in Highlandtown. Here’s our lineup:\n\n**Sho
 wer Daddies:** Dirty mind? Get clean with Shower Daddies as they create  a
 n extremely wacky world.\n\n**Plot Twist:** Plot Twist is a talented group
  with a diverse array of  players that all offer something unique. They fo
 cus on general long-form  improv, but be prepared for some plot twists!\n
 \nGrab your tickets today!
DTSTART;TZID=America/New_York:20251108T190000
DTEND;TZID=America/New_York:20251108T200000
LAST-MODIFIED:20251028T122611Z
LOCATION:The Highwire Center, 400 S. Conkling Street, Baltimore, MD
SUMMARY:Walking the Wire: Improv at The Highwire Center!
URL:https://www.eventbrite.com/e/walking-the-wire-improv-at-the-highwire-ce
 nter-tickets-1839182728049?aff=oddtdtcreator
X-GBCA-NID:39088
END:VEVENT
END:VCALENDAR
