BEGIN:VCALENDAR
VERSION:2.0
PRODID:-//Date iCal v2.14-dev//NONSGML kigkonsult.se iCalcreator 2.16.6//
METHOD:PUBLISH
X-WR-CALNAME;VALUE=TEXT:Greater Baltimore Cultural Alliance
BEGIN:VTIMEZONE
TZID:America/New_York
BEGIN:STANDARD
DTSTART:20251102T020000
TZOFFSETFROM:-0400
TZOFFSETTO:-0500
RDATE:20261101T020000
TZNAME:EST
END:STANDARD
BEGIN:DAYLIGHT
DTSTART:20260308T020000
TZOFFSETFROM:-0500
TZOFFSETTO:-0400
TZNAME:EDT
END:DAYLIGHT
END:VTIMEZONE
BEGIN:VEVENT
UID:calendar.39064.field_fc_date.0@culturefly.org
DTSTAMP:20260421T115923Z
ATTACH;FMTTYPE=image/jpeg:https://culturefly.org/sites/default/files/event-
 image/Tiffany%20McDowell.jpg
CATEGORIES:Lectures/ Workshops,Professional Development
CREATED:20251023T151727Z
DESCRIPTION:Loyola University Maryland’s Sellinger School of Business will 
 present the  2025 Busch Lecture: “The Future of Work: The Peopletecture Mo
 del with Dr.  Tiffany McDowell” on Thursday, Nov. 6, at 6 p.m. The event
  will take place  in the 4th Floor Program Room in the Andrew White Studen
 t Center at Loyola.
DTSTART;TZID=America/New_York:20251106T180000
DTEND;TZID=America/New_York:20251106T190000
GEO:+39.345681;-76.618643
LAST-MODIFIED:20251028T122613Z
LOCATION:Loyola University Maryland, 4501 North Charles Street, Baltimore
 , MD
SUMMARY:Loyola’s Busch Lecture
URL:https://www.loyola.edu/sellinger-business/busch-lecture/
X-GBCA-NID:39064
END:VEVENT
END:VCALENDAR
