BEGIN:VCALENDAR
VERSION:2.0
PRODID:-//Date iCal v2.14-dev//NONSGML kigkonsult.se iCalcreator 2.16.6//
METHOD:PUBLISH
X-WR-CALNAME;VALUE=TEXT:Greater Baltimore Cultural Alliance
BEGIN:VTIMEZONE
TZID:America/New_York
BEGIN:STANDARD
DTSTART:20261101T020000
TZOFFSETFROM:-0400
TZOFFSETTO:-0500
TZNAME:EST
END:STANDARD
BEGIN:DAYLIGHT
DTSTART:20260308T020000
TZOFFSETFROM:-0500
TZOFFSETTO:-0400
TZNAME:EDT
END:DAYLIGHT
END:VTIMEZONE
BEGIN:VEVENT
UID:calendar.39012.field_fc_date.0@culturefly.org
DTSTAMP:20260421T084017Z
ATTACH;FMTTYPE=image/jpeg:https://culturefly.org/sites/default/files/event-
 image/Christmas%20Village%20in%20Baltimore%202025_Family%20Weekend-min.jpg
CATEGORIES:Performance,Activities,Outdoors
CREATED:20251015T180304Z
DESCRIPTION:*Family Weekend at Christmas Village in Baltimore*\n\n*When? *
 \n\n*December 6th and 7th, 2025*
DTSTART;TZID=America/New_York:20251206T120000
DTEND;TZID=America/New_York:20251206T210000
GEO:+39.283353;-76.612894
LAST-MODIFIED:20251016T192442Z
LOCATION:Inner Harbor - West Shore Park, 501 Light Street, Baltimore, MD
SUMMARY:Family Weekend at Christmas Village in Baltimore
URL;TYPE=URI:https://culturefly.org/calendar/event/39012/family-weekend-chr
 istmas-village-baltimore
X-GBCA-NID:39012
END:VEVENT
BEGIN:VEVENT
UID:calendar.39012.field_fc_date.0@culturefly.org
DTSTAMP:20260421T084017Z
ATTACH;FMTTYPE=image/jpeg:https://culturefly.org/sites/default/files/event-
 image/Christmas%20Village%20in%20Baltimore%202025_Family%20Weekend-min.jpg
CATEGORIES:Performance,Activities,Outdoors
CREATED:20251015T180304Z
DESCRIPTION:*Family Weekend at Christmas Village in Baltimore*\n\n*When? *
 \n\n*December 6th and 7th, 2025*
DTSTART;TZID=America/New_York:20251207T120000
DTEND;TZID=America/New_York:20251207T200000
GEO:+39.283353;-76.612894
LAST-MODIFIED:20251016T192442Z
LOCATION:Inner Harbor - West Shore Park, 501 Light Street, Baltimore, MD
SUMMARY:Family Weekend at Christmas Village in Baltimore
URL;TYPE=URI:https://culturefly.org/calendar/event/39012/family-weekend-chr
 istmas-village-baltimore
X-GBCA-NID:39012
END:VEVENT
END:VCALENDAR
