BEGIN:VCALENDAR
VERSION:2.0
PRODID:-//Date iCal v2.14-dev//NONSGML kigkonsult.se iCalcreator 2.16.6//
METHOD:PUBLISH
X-WR-CALNAME;VALUE=TEXT:Greater Baltimore Cultural Alliance
BEGIN:VTIMEZONE
TZID:America/New_York
BEGIN:STANDARD
DTSTART:20251102T020000
TZOFFSETFROM:-0400
TZOFFSETTO:-0500
TZNAME:EST
END:STANDARD
BEGIN:DAYLIGHT
DTSTART:20260308T020000
TZOFFSETFROM:-0500
TZOFFSETTO:-0400
TZNAME:EDT
END:DAYLIGHT
END:VTIMEZONE
BEGIN:VEVENT
UID:calendar.39009.field_fc_date.0@culturefly.org
DTSTAMP:20260420T101136Z
ATTACH;FMTTYPE=image/jpeg:https://culturefly.org/sites/default/files/event-
 image/Who%20Are%20These%20People%20%281%29.jpeg
CATEGORIES:Exhibition,Performance,Activities,Nightlife,Other
CREATED:20251015T153003Z
DESCRIPTION:*Everybody’s a character at Who Are These People!*\n\nJoin us F
 riday, October 17 at 9 p.m. for the first monthly character show at  the 
 Baltimore Improv Group! Let Baltimore comics crack you up with the whacko 
  characters they’ve written; you never know who will show up!\n\n*FEATURI
 NG:* Ziti • Carlton Kearney • Cory Cone • Lloyd Icefire • Corey MAGUIRE Di
 rected by Hannah Alden Jeffrey\n\nThere are nearby parking garages, lots 
 and street parking around the venue.
DTSTART;TZID=America/New_York:20251017T090000
DTEND;TZID=America/New_York:20251017T100000
LAST-MODIFIED:20251016T192442Z
LOCATION:Baltimore Improv Group (BIG), 1727 North Charles Street Baltimore
 , MD 21201, Baltimore, MD
SUMMARY:Who Are These People? An Evening of Hilarious Characters
URL:https://www.bigimprov.org/event-details-registration/who-are-these-peop
 le-1
X-GBCA-NID:39009
END:VEVENT
END:VCALENDAR
