BEGIN:VCALENDAR
VERSION:2.0
PRODID:-//Date iCal v2.14-dev//NONSGML kigkonsult.se iCalcreator 2.16.6//
METHOD:PUBLISH
X-WR-CALNAME;VALUE=TEXT:Greater Baltimore Cultural Alliance
BEGIN:VTIMEZONE
TZID:America/New_York
BEGIN:STANDARD
DTSTART:20251102T020000
TZOFFSETFROM:-0400
TZOFFSETTO:-0500
TZNAME:EST
END:STANDARD
BEGIN:DAYLIGHT
DTSTART:20260308T020000
TZOFFSETFROM:-0500
TZOFFSETTO:-0400
TZNAME:EDT
END:DAYLIGHT
END:VTIMEZONE
BEGIN:VEVENT
UID:calendar.38998.field_fc_date.0@culturefly.org
DTSTAMP:20260420T182050Z
ATTACH;FMTTYPE=image/png:https://culturefly.org/sites/default/files/event-i
 mage/2025-Social-Media-Graphics-768x768_1.png
CATEGORIES:Exhibition,Activities,History & Heritage,Nightlife,Outdoors
CREATED:20251013T192424Z
DESCRIPTION:With ceramic firings reaching temperatures of molten lava, fes
 tive bites and  libations, and a fun and frenzied Clay Olympics, Fire Fe
 st is an exciting  celebration of fire. Get your tickets here!
DTSTART;TZID=America/New_York:20251018T173000
DTEND;TZID=America/New_York:20251018T203000
GEO:+39.367622;-76.653195
LAST-MODIFIED:20251014T124630Z
LOCATION:Baltimore Clayworks, 5707 Smith Avenue, Baltimore, MD
SUMMARY:Fire Fest 2025
URL:https://baltimoreclayworks.org/event/fire-fest-2025/
X-GBCA-NID:38998
END:VEVENT
END:VCALENDAR
