BEGIN:VCALENDAR
VERSION:2.0
PRODID:-//Date iCal v2.14-dev//NONSGML kigkonsult.se iCalcreator 2.16.6//
METHOD:PUBLISH
X-WR-CALNAME;VALUE=TEXT:Greater Baltimore Cultural Alliance
BEGIN:VTIMEZONE
TZID:America/New_York
BEGIN:STANDARD
DTSTART:20251102T020000
TZOFFSETFROM:-0400
TZOFFSETTO:-0500
TZNAME:EST
END:STANDARD
BEGIN:DAYLIGHT
DTSTART:20260308T020000
TZOFFSETFROM:-0500
TZOFFSETTO:-0400
TZNAME:EDT
END:DAYLIGHT
END:VTIMEZONE
BEGIN:VEVENT
UID:calendar.38994.field_fc_date.0@culturefly.org
DTSTAMP:20260420T120202Z
ATTACH;FMTTYPE=image/png:https://culturefly.org/sites/default/files/event-i
 mage/2025-Social-Media-Graphics-25-768x768.png
CATEGORIES:Exhibition
CREATED:20251013T191640Z
DESCRIPTION:In the celebration of the 45th anniversary of Baltimore Claywor
 ks this year,  this exhibition highlights the history of Lormina Salter F
 ellowship. In  Reflections, the former fellowship recipients; Aisha Harr
 ison (’10), Hannah  Pierce (’18), Kevin Rohde (’14), and Travis Winters
  (’15) are inviting  16 contemporary ceramic sculptors focusing on narrati
 ve and figurative work.
DTSTART;TZID=America/New_York:20250906T100000
DTEND;TZID=America/New_York:20251101T170000
GEO:+39.367622;-76.653195
LAST-MODIFIED:20251014T124630Z
LOCATION:Baltimore Clayworks, 5707 Smith Avenue, Baltimore, MD
SUMMARY:Reflections
URL:https://baltimoreclayworks.org/event/reflection/
X-GBCA-NID:38994
END:VEVENT
END:VCALENDAR
