BEGIN:VCALENDAR
VERSION:2.0
PRODID:-//Date iCal v2.14-dev//NONSGML kigkonsult.se iCalcreator 2.16.6//
METHOD:PUBLISH
X-WR-CALNAME;VALUE=TEXT:Greater Baltimore Cultural Alliance
BEGIN:VTIMEZONE
TZID:America/New_York
BEGIN:STANDARD
DTSTART:20251102T020000
TZOFFSETFROM:-0400
TZOFFSETTO:-0500
TZNAME:EST
END:STANDARD
BEGIN:DAYLIGHT
DTSTART:20260308T020000
TZOFFSETFROM:-0500
TZOFFSETTO:-0400
TZNAME:EDT
END:DAYLIGHT
END:VTIMEZONE
BEGIN:VEVENT
UID:calendar.38957.field_fc_date.0@culturefly.org
DTSTAMP:20260420T102237Z
ATTACH;FMTTYPE=image/png:https://culturefly.org/sites/default/files/event-i
 mage/Putty%20Hill.png
CATEGORIES:Nightlife,Other
CREATED:20251007T175759Z
DESCRIPTION:Putty Hill film screening + Q&A w/ Director Matt Porterfield\n
 \nFriends and family of Cory, a young man who has died of an overdose, g
 ather  at a Baltimore-area karaoke bar for his wake and compare stories ab
 out him.  Gradually, as it becomes clear that there are many holes in the
 ir  recollections about Cory, they fill in the blanks by talking about th
 ings  that reveal aspects of their own lives. Among those mourning him and
   searching for meaning are his cousin Jenny, his sister Zoe and his brot
 her  James.
DTSTART;TZID=America/New_York:20251018T183000
DTEND;TZID=America/New_York:20251018T203000
LAST-MODIFIED:20251009T140750Z
LOCATION:SNF Parkway Theatre , 5 West North Avenue, Baltimore, MD
SUMMARY:Putty Hill film screening + Q&A w/ Director Matt Porterfield
URL:https://parkway.eventive.org/schedule/putty-hill-q-a-w-director-matt-po
 rterfield-68d69e3fe7346fd7a8a057fe
X-GBCA-NID:38957
END:VEVENT
BEGIN:VEVENT
UID:calendar.38957.field_fc_date.0@culturefly.org
DTSTAMP:20260420T102237Z
ATTACH;FMTTYPE=image/png:https://culturefly.org/sites/default/files/event-i
 mage/Putty%20Hill.png
CATEGORIES:Nightlife,Other
CREATED:20251007T175759Z
DESCRIPTION:Putty Hill film screening + Q&A w/ Director Matt Porterfield\n
 \nFriends and family of Cory, a young man who has died of an overdose, g
 ather  at a Baltimore-area karaoke bar for his wake and compare stories ab
 out him.  Gradually, as it becomes clear that there are many holes in the
 ir  recollections about Cory, they fill in the blanks by talking about th
 ings  that reveal aspects of their own lives. Among those mourning him and
   searching for meaning are his cousin Jenny, his sister Zoe and his brot
 her  James.
DTSTART;TZID=America/New_York:20251017T193000
DTEND;TZID=America/New_York:20251017T210000
LAST-MODIFIED:20251009T140750Z
LOCATION:SNF Parkway Theatre , 5 West North Avenue, Baltimore, MD
SUMMARY:Putty Hill film screening + Q&A w/ Director Matt Porterfield
URL:https://parkway.eventive.org/schedule/putty-hill-q-a-w-director-matt-po
 rterfield-68d69e3fe7346fd7a8a057fe
X-GBCA-NID:38957
END:VEVENT
BEGIN:VEVENT
UID:calendar.38957.field_fc_date.0@culturefly.org
DTSTAMP:20260420T102237Z
ATTACH;FMTTYPE=image/png:https://culturefly.org/sites/default/files/event-i
 mage/Putty%20Hill.png
CATEGORIES:Nightlife,Other
CREATED:20251007T175759Z
DESCRIPTION:Putty Hill film screening + Q&A w/ Director Matt Porterfield\n
 \nFriends and family of Cory, a young man who has died of an overdose, g
 ather  at a Baltimore-area karaoke bar for his wake and compare stories ab
 out him.  Gradually, as it becomes clear that there are many holes in the
 ir  recollections about Cory, they fill in the blanks by talking about th
 ings  that reveal aspects of their own lives. Among those mourning him and
   searching for meaning are his cousin Jenny, his sister Zoe and his brot
 her  James.
DTSTART;TZID=America/New_York:20251019T163000
DTEND;TZID=America/New_York:20251019T180000
LAST-MODIFIED:20251009T140750Z
LOCATION:SNF Parkway Theatre , 5 West North Avenue, Baltimore, MD
SUMMARY:Putty Hill film screening + Q&A w/ Director Matt Porterfield
URL:https://parkway.eventive.org/schedule/putty-hill-q-a-w-director-matt-po
 rterfield-68d69e3fe7346fd7a8a057fe
X-GBCA-NID:38957
END:VEVENT
END:VCALENDAR
