BEGIN:VCALENDAR
VERSION:2.0
PRODID:-//Date iCal v2.14-dev//NONSGML kigkonsult.se iCalcreator 2.16.6//
METHOD:PUBLISH
X-WR-CALNAME;VALUE=TEXT:Greater Baltimore Cultural Alliance
BEGIN:VTIMEZONE
TZID:America/New_York
BEGIN:STANDARD
DTSTART:20251102T020000
TZOFFSETFROM:-0400
TZOFFSETTO:-0500
TZNAME:EST
END:STANDARD
BEGIN:DAYLIGHT
DTSTART:20260308T020000
TZOFFSETFROM:-0500
TZOFFSETTO:-0400
TZNAME:EDT
END:DAYLIGHT
END:VTIMEZONE
BEGIN:VEVENT
UID:calendar.38956.field_fc_date.0@culturefly.org
DTSTAMP:20260420T182130Z
ATTACH;FMTTYPE=image/png:https://culturefly.org/sites/default/files/event-i
 mage/Hamilton.png
CATEGORIES:Nightlife,Other
CREATED:20251007T175458Z
DESCRIPTION:Hamilton film screening\n\nChronicles two summer days in the li
 fe of a young recent family: Lena, 17,  and Joe, 20, two recent and ac
 cidental parents residing in a diverse suburban  neighborhood in northeast
  Baltimore City.
DTSTART;TZID=America/New_York:20251016T193000
DTEND;TZID=America/New_York:20251016T210000
LAST-MODIFIED:20251009T140810Z
LOCATION:SNF Parkway Theatre , 5 West North Avenue, Baltimore, MD
SUMMARY:Hamilton film screening
URL:https://parkway.eventive.org/schedule/hamilton-68d6a32c89d380d20b13fc80
X-GBCA-NID:38956
END:VEVENT
BEGIN:VEVENT
UID:calendar.38956.field_fc_date.0@culturefly.org
DTSTAMP:20260420T182130Z
ATTACH;FMTTYPE=image/png:https://culturefly.org/sites/default/files/event-i
 mage/Hamilton.png
CATEGORIES:Nightlife,Other
CREATED:20251007T175458Z
DESCRIPTION:Hamilton film screening\n\nChronicles two summer days in the li
 fe of a young recent family: Lena, 17,  and Joe, 20, two recent and ac
 cidental parents residing in a diverse suburban  neighborhood in northeast
  Baltimore City.
DTSTART;TZID=America/New_York:20251018T170000
DTEND;TZID=America/New_York:20251018T183000
LAST-MODIFIED:20251009T140810Z
LOCATION:SNF Parkway Theatre , 5 West North Avenue, Baltimore, MD
SUMMARY:Hamilton film screening
URL:https://parkway.eventive.org/schedule/hamilton-68d6a32c89d380d20b13fc80
X-GBCA-NID:38956
END:VEVENT
BEGIN:VEVENT
UID:calendar.38956.field_fc_date.0@culturefly.org
DTSTAMP:20260420T182130Z
ATTACH;FMTTYPE=image/png:https://culturefly.org/sites/default/files/event-i
 mage/Hamilton.png
CATEGORIES:Nightlife,Other
CREATED:20251007T175458Z
DESCRIPTION:Hamilton film screening\n\nChronicles two summer days in the li
 fe of a young recent family: Lena, 17,  and Joe, 20, two recent and ac
 cidental parents residing in a diverse suburban  neighborhood in northeast
  Baltimore City.
DTSTART;TZID=America/New_York:20251019T183000
DTEND;TZID=America/New_York:20251019T200000
LAST-MODIFIED:20251009T140810Z
LOCATION:SNF Parkway Theatre , 5 West North Avenue, Baltimore, MD
SUMMARY:Hamilton film screening
URL:https://parkway.eventive.org/schedule/hamilton-68d6a32c89d380d20b13fc80
X-GBCA-NID:38956
END:VEVENT
END:VCALENDAR
