BEGIN:VCALENDAR
VERSION:2.0
PRODID:-//Date iCal v2.14-dev//NONSGML kigkonsult.se iCalcreator 2.16.6//
METHOD:PUBLISH
X-WR-CALNAME;VALUE=TEXT:Greater Baltimore Cultural Alliance
BEGIN:VTIMEZONE
TZID:America/New_York
BEGIN:STANDARD
DTSTART:20251102T020000
TZOFFSETFROM:-0400
TZOFFSETTO:-0500
TZNAME:EST
END:STANDARD
BEGIN:DAYLIGHT
DTSTART:20260308T020000
TZOFFSETFROM:-0500
TZOFFSETTO:-0400
TZNAME:EDT
END:DAYLIGHT
END:VTIMEZONE
BEGIN:VEVENT
UID:calendar.38954.field_fc_date.0@culturefly.org
DTSTAMP:20260420T120220Z
ATTACH;FMTTYPE=image/png:https://culturefly.org/sites/default/files/event-i
 mage/Heightened%20Scrutiny.png
CATEGORIES:Nightlife,Other
CREATED:20251007T174821Z
DESCRIPTION:Heightened Scrutiny\n\nAmid the surge in anti-trans legislation
  that Chase Strangio battles in the  courtroom, he must also fight agains
 t media bias, exposing how the narratives  in the press influence public 
 perception and the fight for transgender  rights.
DTSTART;TZID=America/New_York:20251016T190000
DTEND;TZID=America/New_York:20251016T210000
LAST-MODIFIED:20251009T140851Z
LOCATION:SNF Parkway Theatre , 5 West North Avenue, Baltimore, MD
SUMMARY:Heightened Scrutiny
URL:https://parkway.eventive.org/schedule/heightened-scrutiny-68d69cddde5d6
 5b37b87fd26
X-GBCA-NID:38954
END:VEVENT
BEGIN:VEVENT
UID:calendar.38954.field_fc_date.0@culturefly.org
DTSTAMP:20260420T120220Z
ATTACH;FMTTYPE=image/png:https://culturefly.org/sites/default/files/event-i
 mage/Heightened%20Scrutiny.png
CATEGORIES:Nightlife,Other
CREATED:20251007T174821Z
DESCRIPTION:Heightened Scrutiny\n\nAmid the surge in anti-trans legislation
  that Chase Strangio battles in the  courtroom, he must also fight agains
 t media bias, exposing how the narratives  in the press influence public 
 perception and the fight for transgender  rights.
DTSTART;TZID=America/New_York:20251017T190000
DTEND;TZID=America/New_York:20251017T210000
LAST-MODIFIED:20251009T140851Z
LOCATION:SNF Parkway Theatre , 5 West North Avenue, Baltimore, MD
SUMMARY:Heightened Scrutiny
URL:https://parkway.eventive.org/schedule/heightened-scrutiny-68d69cddde5d6
 5b37b87fd26
X-GBCA-NID:38954
END:VEVENT
BEGIN:VEVENT
UID:calendar.38954.field_fc_date.0@culturefly.org
DTSTAMP:20260420T120220Z
ATTACH;FMTTYPE=image/png:https://culturefly.org/sites/default/files/event-i
 mage/Heightened%20Scrutiny.png
CATEGORIES:Nightlife,Other
CREATED:20251007T174821Z
DESCRIPTION:Heightened Scrutiny\n\nAmid the surge in anti-trans legislation
  that Chase Strangio battles in the  courtroom, he must also fight agains
 t media bias, exposing how the narratives  in the press influence public 
 perception and the fight for transgender  rights.
DTSTART;TZID=America/New_York:20251018T163000
DTEND;TZID=America/New_York:20251018T183000
LAST-MODIFIED:20251009T140851Z
LOCATION:SNF Parkway Theatre , 5 West North Avenue, Baltimore, MD
SUMMARY:Heightened Scrutiny
URL:https://parkway.eventive.org/schedule/heightened-scrutiny-68d69cddde5d6
 5b37b87fd26
X-GBCA-NID:38954
END:VEVENT
BEGIN:VEVENT
UID:calendar.38954.field_fc_date.0@culturefly.org
DTSTAMP:20260420T120220Z
ATTACH;FMTTYPE=image/png:https://culturefly.org/sites/default/files/event-i
 mage/Heightened%20Scrutiny.png
CATEGORIES:Nightlife,Other
CREATED:20251007T174821Z
DESCRIPTION:Heightened Scrutiny\n\nAmid the surge in anti-trans legislation
  that Chase Strangio battles in the  courtroom, he must also fight agains
 t media bias, exposing how the narratives  in the press influence public 
 perception and the fight for transgender  rights.
DTSTART;TZID=America/New_York:20251018T193000
DTEND;TZID=America/New_York:20251018T213000
LAST-MODIFIED:20251009T140851Z
LOCATION:SNF Parkway Theatre , 5 West North Avenue, Baltimore, MD
SUMMARY:Heightened Scrutiny
URL:https://parkway.eventive.org/schedule/heightened-scrutiny-68d69cddde5d6
 5b37b87fd26
X-GBCA-NID:38954
END:VEVENT
BEGIN:VEVENT
UID:calendar.38954.field_fc_date.0@culturefly.org
DTSTAMP:20260420T120220Z
ATTACH;FMTTYPE=image/png:https://culturefly.org/sites/default/files/event-i
 mage/Heightened%20Scrutiny.png
CATEGORIES:Nightlife,Other
CREATED:20251007T174821Z
DESCRIPTION:Heightened Scrutiny\n\nAmid the surge in anti-trans legislation
  that Chase Strangio battles in the  courtroom, he must also fight agains
 t media bias, exposing how the narratives  in the press influence public 
 perception and the fight for transgender  rights.
DTSTART;TZID=America/New_York:20251019T160000
DTEND;TZID=America/New_York:20251019T180000
LAST-MODIFIED:20251009T140851Z
LOCATION:SNF Parkway Theatre , 5 West North Avenue, Baltimore, MD
SUMMARY:Heightened Scrutiny
URL:https://parkway.eventive.org/schedule/heightened-scrutiny-68d69cddde5d6
 5b37b87fd26
X-GBCA-NID:38954
END:VEVENT
BEGIN:VEVENT
UID:calendar.38954.field_fc_date.0@culturefly.org
DTSTAMP:20260420T120220Z
ATTACH;FMTTYPE=image/png:https://culturefly.org/sites/default/files/event-i
 mage/Heightened%20Scrutiny.png
CATEGORIES:Nightlife,Other
CREATED:20251007T174821Z
DESCRIPTION:Heightened Scrutiny\n\nAmid the surge in anti-trans legislation
  that Chase Strangio battles in the  courtroom, he must also fight agains
 t media bias, exposing how the narratives  in the press influence public 
 perception and the fight for transgender  rights.
DTSTART;TZID=America/New_York:20251019T180000
DTEND;TZID=America/New_York:20251019T200000
LAST-MODIFIED:20251009T140851Z
LOCATION:SNF Parkway Theatre , 5 West North Avenue, Baltimore, MD
SUMMARY:Heightened Scrutiny
URL:https://parkway.eventive.org/schedule/heightened-scrutiny-68d69cddde5d6
 5b37b87fd26
X-GBCA-NID:38954
END:VEVENT
END:VCALENDAR
