BEGIN:VCALENDAR
VERSION:2.0
PRODID:-//Date iCal v2.14-dev//NONSGML kigkonsult.se iCalcreator 2.16.6//
METHOD:PUBLISH
X-WR-CALNAME;VALUE=TEXT:Greater Baltimore Cultural Alliance
BEGIN:VTIMEZONE
TZID:America/New_York
BEGIN:STANDARD
DTSTART:20251102T020000
TZOFFSETFROM:-0400
TZOFFSETTO:-0500
TZNAME:EST
END:STANDARD
BEGIN:DAYLIGHT
DTSTART:20260308T020000
TZOFFSETFROM:-0500
TZOFFSETTO:-0400
TZNAME:EDT
END:DAYLIGHT
END:VTIMEZONE
BEGIN:VEVENT
UID:calendar.38923.field_fc_date.0@culturefly.org
DTSTAMP:20260420T101937Z
ATTACH;FMTTYPE=image/png:https://culturefly.org/sites/default/files/event-i
 mage/October%2017th%208pm.png
CATEGORIES:Performance,Nightlife
CREATED:20251005T213852Z
DESCRIPTION:Let’s get weird (and funny) in Highlandtown this weekend. Every
  scene is  made up on the spot just for you at Highwire Improv. Here’s our
  lineup:\n\n**Whatever This Is: **A four-person team comprised of improv e
 xperts who can  perform any form, real or imagined. They use their propri
 etary technology to  devise a brand new show in front of the audience’s ey
 es.\n\n**Big Worm: **Big Worm is a Baltimore-based indie improv team. Thei
 r show is  a fast, fresh, character-driven montage!\n\nReserve your seat
 s now!
DTSTART;TZID=America/New_York:20251017T200000
DTEND;TZID=America/New_York:20251017T210000
LAST-MODIFIED:20251007T153328Z
LOCATION:The Highwire Center, 400 S. Conkling Street, Baltimore, MD
SUMMARY:Friday Fun and Games: Improv at The Highwire Center!
URL:https://www.eventbrite.com/e/friday-fun-and-games-improv-at-the-highwir
 e-center-tickets-1751133691009?aff=oddtdtcreator
X-GBCA-NID:38923
END:VEVENT
END:VCALENDAR
