BEGIN:VCALENDAR
VERSION:2.0
PRODID:-//Date iCal v2.14-dev//NONSGML kigkonsult.se iCalcreator 2.16.6//
METHOD:PUBLISH
X-WR-CALNAME;VALUE=TEXT:Greater Baltimore Cultural Alliance
BEGIN:VTIMEZONE
TZID:America/New_York
BEGIN:STANDARD
DTSTART:20251102T020000
TZOFFSETFROM:-0400
TZOFFSETTO:-0500
TZNAME:EST
END:STANDARD
BEGIN:DAYLIGHT
DTSTART:20260308T020000
TZOFFSETFROM:-0500
TZOFFSETTO:-0400
TZNAME:EDT
END:DAYLIGHT
END:VTIMEZONE
BEGIN:VEVENT
UID:calendar.38922.field_fc_date.0@culturefly.org
DTSTAMP:20260420T214752Z
ATTACH;FMTTYPE=image/png:https://culturefly.org/sites/default/files/event-i
 mage/October%2017th%207pm.png
CATEGORIES:Performance,Nightlife
CREATED:20251005T213553Z
DESCRIPTION:Come curious, leave laughing. The weekend starts with Highwire
  Improv on  Highlandtown’s funniest corner. Here’s our lineup:\n\n**Hardco
 re Harold:** This team has many veteran players who have signed up to  go 
 back into the trenches to focus on game - all because they are hardcore  a
 bout the Harold.\n\n**Yardsale 69:** A high-energy, creative, montage im
 prov team with players  from a variety of backgrounds. They love to get th
 e audience involved in  shows as well as perform specialty theme-based sho
 ws.
DTSTART;TZID=America/New_York:20251017T190000
DTEND;TZID=America/New_York:20251017T200000
LAST-MODIFIED:20251007T153328Z
LOCATION:The Highwire Center, 400 S. Conkling Street, Baltimore, MD
SUMMARY:Walking the Wire: Improv at The Highwire Center!
URL:https://www.eventbrite.com/e/walking-the-wire-improv-at-the-highwire-ce
 nter-tickets-1751096951119?aff=oddtdtcreator
X-GBCA-NID:38922
END:VEVENT
END:VCALENDAR
