BEGIN:VCALENDAR
VERSION:2.0
PRODID:-//Date iCal v2.14-dev//NONSGML kigkonsult.se iCalcreator 2.16.6//
METHOD:PUBLISH
X-WR-CALNAME;VALUE=TEXT:Greater Baltimore Cultural Alliance
BEGIN:VTIMEZONE
TZID:America/New_York
BEGIN:STANDARD
DTSTART:20251102T020000
TZOFFSETFROM:-0400
TZOFFSETTO:-0500
TZNAME:EST
END:STANDARD
BEGIN:DAYLIGHT
DTSTART:20260308T020000
TZOFFSETFROM:-0500
TZOFFSETTO:-0400
TZNAME:EDT
END:DAYLIGHT
END:VTIMEZONE
BEGIN:VEVENT
UID:calendar.38911.field_fc_date.0@culturefly.org
DTSTAMP:20260421T151350Z
ATTACH;FMTTYPE=image/jpeg:https://culturefly.org/sites/default/files/event-
 image/BFMS%20Lovely%20Lane2.jpg
CATEGORIES:Performance,Activities,History & Heritage,Nightlife,Outdoors
CREATED:20251004T192415Z
DTSTART;TZID=America/New_York:20251010T180000
DTEND;TZID=America/New_York:20251012T170000
LAST-MODIFIED:20251007T153328Z
LOCATION:R House, 301 West 29th Street, Baltimore, MD
SUMMARY:Baltimore Folk Music Society: FREE 3 day celebration of 50th Annive
 rsary
URL:www.bfms.org/bfms50.php
X-GBCA-NID:38911
END:VEVENT
BEGIN:VEVENT
UID:calendar.38911.field_fc_date.0@culturefly.org
DTSTAMP:20260421T151350Z
ATTACH;FMTTYPE=image/jpeg:https://culturefly.org/sites/default/files/event-
 image/BFMS%20Lovely%20Lane2.jpg
CATEGORIES:Performance,Activities,History & Heritage,Nightlife,Outdoors
CREATED:20251004T192415Z
DTSTART;TZID=America/New_York:20251011T013000
DTEND;TZID=America/New_York:20251011T220000
LAST-MODIFIED:20251007T153328Z
LOCATION:R House, 301 West 29th Street, Baltimore, MD
SUMMARY:Baltimore Folk Music Society: FREE 3 day celebration of 50th Annive
 rsary
URL:www.bfms.org/bfms50.php
X-GBCA-NID:38911
END:VEVENT
BEGIN:VEVENT
UID:calendar.38911.field_fc_date.0@culturefly.org
DTSTAMP:20260421T151350Z
ATTACH;FMTTYPE=image/jpeg:https://culturefly.org/sites/default/files/event-
 image/BFMS%20Lovely%20Lane2.jpg
CATEGORIES:Performance,Activities,History & Heritage,Nightlife,Outdoors
CREATED:20251004T192415Z
DTSTART;TZID=America/New_York:20251012T120000
DTEND;TZID=America/New_York:20251012T170000
LAST-MODIFIED:20251007T153328Z
LOCATION:R House, 301 West 29th Street, Baltimore, MD
SUMMARY:Baltimore Folk Music Society: FREE 3 day celebration of 50th Annive
 rsary
URL:www.bfms.org/bfms50.php
X-GBCA-NID:38911
END:VEVENT
END:VCALENDAR
