BEGIN:VCALENDAR
VERSION:2.0
PRODID:-//Date iCal v2.14-dev//NONSGML kigkonsult.se iCalcreator 2.16.6//
METHOD:PUBLISH
X-WR-CALNAME;VALUE=TEXT:Greater Baltimore Cultural Alliance
BEGIN:VTIMEZONE
TZID:America/New_York
BEGIN:STANDARD
DTSTART:20251102T020000
TZOFFSETFROM:-0400
TZOFFSETTO:-0500
TZNAME:EST
END:STANDARD
BEGIN:DAYLIGHT
DTSTART:20260308T020000
TZOFFSETFROM:-0500
TZOFFSETTO:-0400
TZNAME:EDT
END:DAYLIGHT
END:VTIMEZONE
BEGIN:VEVENT
UID:calendar.38906.field_fc_date.0@culturefly.org
DTSTAMP:20260420T101728Z
ATTACH;FMTTYPE=image/jpeg:https://culturefly.org/sites/default/files/event-
 image/Noah%20Haidu_0.jpg
CATEGORIES:Performance,Nightlife
CREATED:20251003T205442Z
DESCRIPTION:Join acclaimed jazz pianist Noah Haidu and his brilliant quarte
 t at An die  Musik Live for an unforgettable evening celebrating the music
  of the late  Kenny Kirkland—a visionary composer and pianist whose influe
 nce continues  to shape modern jazz. This special performance is timed wit
 h what would have  been Kirkland’s 70th birthday and supported by an ambit
 ious multimedia  project: The Doctone Project.\n\nNoah Haidu, piano Kevin
  Sun, sax Gervis Myles, bass Aaron Seeber, drums
DTSTART;TZID=America/New_York:20251017T193000
DTEND;TZID=America/New_York:20251017T210000
LAST-MODIFIED:20251007T153332Z
LOCATION:An Die Musik Live, 409 North Charles Street Second Floor, Baltim
 ore, MD
SUMMARY:Noah Haidu: The Doctone Project - The Music of Kenny Kirkland
URL:https://www.instantseats.com/?fuseaction=home.artist&VenueID=321&artist
 id=38487
X-GBCA-NID:38906
END:VEVENT
BEGIN:VEVENT
UID:calendar.38906.field_fc_date.0@culturefly.org
DTSTAMP:20260420T101728Z
ATTACH;FMTTYPE=image/jpeg:https://culturefly.org/sites/default/files/event-
 image/Noah%20Haidu_0.jpg
CATEGORIES:Performance,Nightlife
CREATED:20251003T205442Z
DESCRIPTION:Join acclaimed jazz pianist Noah Haidu and his brilliant quarte
 t at An die  Musik Live for an unforgettable evening celebrating the music
  of the late  Kenny Kirkland—a visionary composer and pianist whose influe
 nce continues  to shape modern jazz. This special performance is timed wit
 h what would have  been Kirkland’s 70th birthday and supported by an ambit
 ious multimedia  project: The Doctone Project.\n\nNoah Haidu, piano Kevin
  Sun, sax Gervis Myles, bass Aaron Seeber, drums
DTSTART;TZID=America/New_York:20251017T210000
DTEND;TZID=America/New_York:20251017T223000
LAST-MODIFIED:20251007T153332Z
LOCATION:An Die Musik Live, 409 North Charles Street Second Floor, Baltim
 ore, MD
SUMMARY:Noah Haidu: The Doctone Project - The Music of Kenny Kirkland
URL:https://www.instantseats.com/?fuseaction=home.artist&VenueID=321&artist
 id=38487
X-GBCA-NID:38906
END:VEVENT
END:VCALENDAR
