BEGIN:VCALENDAR
VERSION:2.0
PRODID:-//Date iCal v2.14-dev//NONSGML kigkonsult.se iCalcreator 2.16.6//
METHOD:PUBLISH
X-WR-CALNAME;VALUE=TEXT:Greater Baltimore Cultural Alliance
BEGIN:VTIMEZONE
TZID:America/New_York
BEGIN:STANDARD
DTSTART:20251102T020000
TZOFFSETFROM:-0400
TZOFFSETTO:-0500
TZNAME:EST
END:STANDARD
BEGIN:DAYLIGHT
DTSTART:20260308T020000
TZOFFSETFROM:-0500
TZOFFSETTO:-0400
TZNAME:EDT
END:DAYLIGHT
END:VTIMEZONE
BEGIN:VEVENT
UID:calendar.38896.field_fc_date.0@culturefly.org
DTSTAMP:20260420T101516Z
ATTACH;FMTTYPE=image/jpeg:https://culturefly.org/sites/default/files/event-
 image/2a083175-6285-5af5-022e-55add9fbe7b5.jpeg
CATEGORIES:Exhibition,Performance,Activities,History & Heritage,Outdoor
 s
CREATED:20251002T170915Z
DESCRIPTION:Howard County Executive Calvin Ball, in partnership with La Al
 ianza Latina  Commission, Howard County Office of Human Rights & Equity,
  Merriweather Arts  and Culture, and Howard Hughes, invites you to celeb
 rate the rich culture and  traditions of the Hispanic community at our **H
 ispanic Heritage Festival**!\n\nJoin us to celebrate Hispanic Heritage Mon
 th with music, live entertainment,  performances, delicious food, arti
 sans, food vendors, exhibitors, books and  an art display.
DTSTART;TZID=America/New_York:20251004T170000
DTEND;TZID=America/New_York:20251004T210000
LAST-MODIFIED:20251002T171019Z
LOCATION:Color Burst Park, 6000 Merriweather Dr, Columbia, MD
SUMMARY:2025 Howard County Hispanic Heritage Festival
URL:https://maryland-hispanic-chamber-of-commerce.org/community-event/howar
 d-county-hispanic-heritage-festivalfestival-de-la-herencia-hispana
X-GBCA-NID:38896
END:VEVENT
END:VCALENDAR
