BEGIN:VCALENDAR
VERSION:2.0
PRODID:-//Date iCal v2.14-dev//NONSGML kigkonsult.se iCalcreator 2.16.6//
METHOD:PUBLISH
X-WR-CALNAME;VALUE=TEXT:Greater Baltimore Cultural Alliance
BEGIN:VTIMEZONE
TZID:America/New_York
BEGIN:STANDARD
DTSTART:20251102T020000
TZOFFSETFROM:-0400
TZOFFSETTO:-0500
TZNAME:EST
END:STANDARD
BEGIN:DAYLIGHT
DTSTART:20260308T020000
TZOFFSETFROM:-0500
TZOFFSETTO:-0400
TZNAME:EDT
END:DAYLIGHT
END:VTIMEZONE
BEGIN:VEVENT
UID:calendar.38892.field_fc_date.0@culturefly.org
DTSTAMP:20260421T083452Z
ATTACH;FMTTYPE=image/jpeg:https://culturefly.org/sites/default/files/event-
 image/Warren%20Wolf_1.jpg
CATEGORIES:Performance,Nightlife
CREATED:20251001T195945Z
DESCRIPTION:Join Warren Wolf as he returns for his monthly concert at An di
 e Musik, this  month featuring the legendary bassist Curtis Lundy!\n\nWor
 ld-Renowned Bassist | Composer | Arranger | Grammy Nominated Recording  Ar
 tist Curtis Lundy is arguably one of the most prolific and in-demand  bass
 ists on the modern jazz scene. He is a disciple of the mainstream —  strai
 ght ahead — hard bop school.
DTSTART;TZID=America/New_York:20251007T200000
DTEND;TZID=America/New_York:20251007T220000
LAST-MODIFIED:20251002T171048Z
LOCATION:An Die Musik Live, 409 North Charles Street Second Floor, Baltim
 ore, MD
SUMMARY:Warren Wolf Monthly Series ft. Curtis Lundy & Eric Kennedy
URL:https://www.instantseats.com/?fuseaction=home.artist&VenueID=321&artist
 id=38483
X-GBCA-NID:38892
END:VEVENT
END:VCALENDAR
