BEGIN:VCALENDAR
VERSION:2.0
PRODID:-//Date iCal v2.14-dev//NONSGML kigkonsult.se iCalcreator 2.16.6//
METHOD:PUBLISH
X-WR-CALNAME;VALUE=TEXT:Greater Baltimore Cultural Alliance
BEGIN:VTIMEZONE
TZID:America/New_York
BEGIN:STANDARD
DTSTART:20251102T020000
TZOFFSETFROM:-0400
TZOFFSETTO:-0500
TZNAME:EST
END:STANDARD
BEGIN:DAYLIGHT
DTSTART:20260308T020000
TZOFFSETFROM:-0500
TZOFFSETTO:-0400
TZNAME:EDT
END:DAYLIGHT
END:VTIMEZONE
BEGIN:VEVENT
UID:calendar.38880.field_fc_date.0@culturefly.org
DTSTAMP:20260421T213115Z
ATTACH;FMTTYPE=image/png:https://culturefly.org/sites/default/files/event-i
 mage/October%204th%209pm.png
CATEGORIES:Exhibition,Performance,Activities,Nightlife
CREATED:20250930T142351Z
DESCRIPTION:Highlandtown’s funniest corner comes alive with laughter at The
  Highwire  Center. Every scene is made up on the spot just for you. Here’s
  our lineup:\n\n**ImprovScape:** ImprovScape brings improv to the arts com
 munities of  Baltimore! Each show, a specially designed cast of HIghwire’
 s improvisers  meet with a local artist. We interview them, see their wor
 k, and turn their  art, inspirations, history, and commentary into hil
 arious improv!\n\nGrab your tickets today!
DTSTART;TZID=America/New_York:20251004T210000
DTEND;TZID=America/New_York:20251004T220000
LAST-MODIFIED:20250930T142911Z
LOCATION:Highwire Improv, 400 S. Conkling Street, Baltimore, MD
SUMMARY:ImprovScape: Art and Comedy Collide!
URL:https://www.highwireimprov.com
X-GBCA-NID:38880
END:VEVENT
END:VCALENDAR
