BEGIN:VCALENDAR
VERSION:2.0
PRODID:-//Date iCal v2.14-dev//NONSGML kigkonsult.se iCalcreator 2.16.6//
METHOD:PUBLISH
X-WR-CALNAME;VALUE=TEXT:Greater Baltimore Cultural Alliance
BEGIN:VTIMEZONE
TZID:America/New_York
BEGIN:STANDARD
DTSTART:20251102T020000
TZOFFSETFROM:-0400
TZOFFSETTO:-0500
TZNAME:EST
END:STANDARD
BEGIN:DAYLIGHT
DTSTART:20260308T020000
TZOFFSETFROM:-0500
TZOFFSETTO:-0400
TZNAME:EDT
END:DAYLIGHT
END:VTIMEZONE
BEGIN:VEVENT
UID:calendar.38876.field_fc_date.0@culturefly.org
DTSTAMP:20260421T200113Z
ATTACH;FMTTYPE=image/png:https://culturefly.org/sites/default/files/event-i
 mage/October%204%208pm.png
CATEGORIES:Performance,Activities,Nightlife
CREATED:20250930T122717Z
DESCRIPTION:The best way to end your week? Improv in Highlandtown. Highwire
  Improv brings  laughter to Saturday nights.\n\n**Plot Twist:** Plot Twist
  is a talented group with a diverse array of  players that all offer somet
 hing unique. They focus on general long-form  improv, but be prepared for
  some plot twists!
DTSTART;TZID=America/New_York:20251004T200000
DTEND;TZID=America/New_York:20251004T210000
LAST-MODIFIED:20250930T142911Z
LOCATION:Highwire Improv, 400 S. Conkling Street, Baltimore, MD
SUMMARY:Walking the Wire: Comedy at The Highwire Center!
URL:https://www.highwireimprov.com
X-GBCA-NID:38876
END:VEVENT
END:VCALENDAR
