BEGIN:VCALENDAR
VERSION:2.0
PRODID:-//Date iCal v2.14-dev//NONSGML kigkonsult.se iCalcreator 2.16.6//
METHOD:PUBLISH
X-WR-CALNAME;VALUE=TEXT:Greater Baltimore Cultural Alliance
BEGIN:VTIMEZONE
TZID:America/New_York
BEGIN:STANDARD
DTSTART:20251102T020000
TZOFFSETFROM:-0400
TZOFFSETTO:-0500
TZNAME:EST
END:STANDARD
BEGIN:DAYLIGHT
DTSTART:20260308T020000
TZOFFSETFROM:-0500
TZOFFSETTO:-0400
TZNAME:EDT
END:DAYLIGHT
END:VTIMEZONE
BEGIN:VEVENT
UID:calendar.38873.field_fc_date.0@culturefly.org
DTSTAMP:20260420T101403Z
ATTACH;FMTTYPE=image/png:https://culturefly.org/sites/default/files/event-i
 mage/October%203%20-%209pm.png
CATEGORIES:Performance,Activities,Nightlife
CREATED:20250930T004734Z
DESCRIPTION:We will fill the Highwire Center with chaotic energy to close o
 ut Friday  night.\n\nThe hour starts with long-running **Local Spot** who 
 somehow make complete  absurdity out of a single location and a single sce
 ne. Then, we get gossipy  with newsworthy takes and opinions turned into 
 comedy by **Girl Talk**!\n\n**What is an improv show, exactly?**
DTSTART;TZID=America/New_York:20251003T210000
DTEND;TZID=America/New_York:20251003T210000
LAST-MODIFIED:20250930T142911Z
LOCATION:Highwire Improv, 400 S. Conkling Street, Baltimore, MD
SUMMARY:Chaos Hour: Improv at The Highwire Center!
URL:https://www.highwireimprov.com
X-GBCA-NID:38873
END:VEVENT
END:VCALENDAR
