BEGIN:VCALENDAR
VERSION:2.0
PRODID:-//Date iCal v2.14-dev//NONSGML kigkonsult.se iCalcreator 2.16.6//
METHOD:PUBLISH
X-WR-CALNAME;VALUE=TEXT:Greater Baltimore Cultural Alliance
BEGIN:VTIMEZONE
TZID:America/New_York
BEGIN:STANDARD
DTSTART:20251102T020000
TZOFFSETFROM:-0400
TZOFFSETTO:-0500
TZNAME:EST
END:STANDARD
BEGIN:DAYLIGHT
DTSTART:20260308T020000
TZOFFSETFROM:-0500
TZOFFSETTO:-0400
TZNAME:EDT
END:DAYLIGHT
END:VTIMEZONE
BEGIN:VEVENT
UID:calendar.38870.field_fc_date.0@culturefly.org
DTSTAMP:20260420T084904Z
ATTACH;FMTTYPE=image/png:https://culturefly.org/sites/default/files/event-i
 mage/October%203rd%2C%208pm.png
CATEGORIES:Performance,Activities,Nightlife
CREATED:20250930T003626Z
DESCRIPTION:Start your Friday night off with hilarious improv comedy on Hig
 hlandtown's  funniest corner. We open with **Twig**, who will bring ridic
 ulous energy and  stories to the stage. We then earn some **Extra Credit**
 , mixing Highwire's  teachers and students for an unforgettable show!\n\n
 **What is an improv show, exactly?**
DTSTART;TZID=America/New_York:20251003T200000
DTEND;TZID=America/New_York:20251003T210000
LAST-MODIFIED:20250930T142911Z
LOCATION:Highwire Improv, 400 S. Conkling Street, Baltimore, MD
SUMMARY:Walking the Wire: Improv at The Highwire Center
URL:https://www.highwireimprov.com
X-GBCA-NID:38870
END:VEVENT
END:VCALENDAR
