BEGIN:VCALENDAR
VERSION:2.0
PRODID:-//Date iCal v2.14-dev//NONSGML kigkonsult.se iCalcreator 2.16.6//
METHOD:PUBLISH
X-WR-CALNAME;VALUE=TEXT:Greater Baltimore Cultural Alliance
BEGIN:VTIMEZONE
TZID:America/New_York
BEGIN:STANDARD
DTSTART:20251102T020000
TZOFFSETFROM:-0400
TZOFFSETTO:-0500
TZNAME:EST
END:STANDARD
BEGIN:DAYLIGHT
DTSTART:20260308T020000
TZOFFSETFROM:-0500
TZOFFSETTO:-0400
TZNAME:EDT
END:DAYLIGHT
END:VTIMEZONE
BEGIN:VEVENT
UID:calendar.38861.field_fc_date.0@culturefly.org
DTSTAMP:20260420T085027Z
ATTACH;FMTTYPE=image/jpeg:https://culturefly.org/sites/default/files/event-
 image/October%203rd%207pmsmall.jpg
CATEGORIES:Performance,Activities,History & Heritage,Nightlife
CREATED:20250929T124645Z
DESCRIPTION:Despite all reason and recommendations, the famed water taxi c
 omedy history  tour of madness, **Baltimore Holy S#!T**, runs around Fri
 day at The Highwire  Center! Laugh a lot, learn a little, and get a bran
 d new perspective on Charm  City, as part of the Highlandtown First Frida
 y Art Walk!\n\n**What is an improv show, exactly?**
DTSTART;TZID=America/New_York:20251003T190000
DTEND;TZID=America/New_York:20251003T200000
LAST-MODIFIED:20250930T142911Z
LOCATION:Highwire Improv, 400 S. Conkling Street, Baltimore, MD
SUMMARY:Baltimore Holy S#!T - ON LAND!
URL:https://www.highwireimprov.com
X-GBCA-NID:38861
END:VEVENT
END:VCALENDAR
