BEGIN:VCALENDAR
VERSION:2.0
PRODID:-//Date iCal v2.14-dev//NONSGML kigkonsult.se iCalcreator 2.16.6//
METHOD:PUBLISH
X-WR-CALNAME;VALUE=TEXT:Greater Baltimore Cultural Alliance
BEGIN:VTIMEZONE
TZID:America/New_York
BEGIN:STANDARD
DTSTART:20251102T020000
TZOFFSETFROM:-0400
TZOFFSETTO:-0500
TZNAME:EST
END:STANDARD
BEGIN:DAYLIGHT
DTSTART:20260308T020000
TZOFFSETFROM:-0500
TZOFFSETTO:-0400
TZNAME:EDT
END:DAYLIGHT
END:VTIMEZONE
BEGIN:VEVENT
UID:calendar.38835.field_fc_date.0@culturefly.org
DTSTAMP:20260420T180100Z
ATTACH;FMTTYPE=image/jpeg:https://culturefly.org/sites/default/files/event-
 image/Allison%20Phillips.jpg
CATEGORIES:Performance,Nightlife
CREATED:20250924T170519Z
DESCRIPTION:Brooklyn based trumpeter and composer Allison Philips brings he
 r quartet to  Baltimore for the first time in support of Make It Better, 
 a powerful new  album shaped by resilience, memory, and creative renewal
 . Written during the  pandemic and brought to life with longtime collabora
 tors Neta Raanan (tenor  sax), Isaac Levien (bass), and Connor Parks (dr
 ums), the music blends lyrical  depth with dynamic improvisation. With ro
 ots in jazz and a spirit of  reflection, the group delivers emotionally c
 harged performances that honor  the past while looking forward.
DTSTART;TZID=America/New_York:20251003T190000
DTEND;TZID=America/New_York:20251003T210000
LAST-MODIFIED:20250930T142917Z
LOCATION:An Die Musik Live, 409 North Charles Street Second Floor, Baltim
 ore, MD
SUMMARY:Allison Philips Quartet
URL:https://www.instantseats.com/?fuseaction=home.artist&VenueID=321&artist
 id=38430
X-GBCA-NID:38835
END:VEVENT
END:VCALENDAR
