BEGIN:VCALENDAR
VERSION:2.0
PRODID:-//Date iCal v2.14-dev//NONSGML kigkonsult.se iCalcreator 2.16.6//
METHOD:PUBLISH
X-WR-CALNAME;VALUE=TEXT:Greater Baltimore Cultural Alliance
BEGIN:VTIMEZONE
TZID:America/New_York
BEGIN:STANDARD
DTSTART:20251102T020000
TZOFFSETFROM:-0400
TZOFFSETTO:-0500
TZNAME:EST
END:STANDARD
BEGIN:DAYLIGHT
DTSTART:20260308T020000
TZOFFSETFROM:-0500
TZOFFSETTO:-0400
TZNAME:EDT
END:DAYLIGHT
END:VTIMEZONE
BEGIN:VEVENT
UID:calendar.38829.field_fc_date.0@culturefly.org
DTSTAMP:20260421T153017Z
ATTACH;FMTTYPE=image/png:https://culturefly.org/sites/default/files/event-i
 mage/1_20.png
CATEGORIES:Exhibition,Baker Artist,Performance,Activities
CREATED:20250924T031859Z
DESCRIPTION:Le Mondo presents HOMAGE TO OUR ANCESTORS, a multidisciplinary
  art and  performance event for the release of /Coconut Paradise/, a new 
 literary work  from local writer Esterline Vielot.\n\nPart interactive ins
 tallation, part performance, the evening centers around  Afro-Haitian he
 ritage, roots, and traditions as well as the experience of  reconnecting
  to these ancestral legacies to gain more complex perspectives of  one's s
 elf and the world around them.
DTSTART;TZID=America/New_York:20251004T173000
DTEND;TZID=America/New_York:20251004T203000
GEO:+39.294311;-76.620107
LAST-MODIFIED:20250930T142927Z
LOCATION:Le Mondo Art Space, 408-410 N Howard Street, Baltimore, MD
SUMMARY:Homage to Our Ancestors:
URL:https://www.lemondo.org/events/lit-homage-to-our-ancestors
X-GBCA-NID:38829
END:VEVENT
END:VCALENDAR
