BEGIN:VCALENDAR
VERSION:2.0
PRODID:-//Date iCal v2.14-dev//NONSGML kigkonsult.se iCalcreator 2.16.6//
METHOD:PUBLISH
X-WR-CALNAME;VALUE=TEXT:Greater Baltimore Cultural Alliance
BEGIN:VTIMEZONE
TZID:America/New_York
BEGIN:STANDARD
DTSTART:20251102T020000
TZOFFSETFROM:-0400
TZOFFSETTO:-0500
TZNAME:EST
END:STANDARD
BEGIN:DAYLIGHT
DTSTART:20260308T020000
TZOFFSETFROM:-0500
TZOFFSETTO:-0400
TZNAME:EDT
END:DAYLIGHT
END:VTIMEZONE
BEGIN:VEVENT
UID:calendar.38802.field_fc_date.0@culturefly.org
DTSTAMP:20260420T084543Z
ATTACH;FMTTYPE=image/gif:https://culturefly.org/sites/default/files/event-i
 mage/Suns-800-x-800-px.gif
CATEGORIES:Lectures/ Workshops,Activities
CREATED:20250917T202626Z
DESCRIPTION:Third Act Maryland, along with Civic Works and the Chesapeake 
 Climate Action  Network, are inviting their fellow citizens to “Sun Day,
 ” celebrating  solar energy as the cheapest and fastest way to generate el
 ectricity.\n\nThe event, from 1 p.m. to 4 p.m. on Sunday, Sept. 21, hap
 pens at Civic Works  headquarters, 3501 Brehms Ln., in Baltimore. Admiss
 ion is free.
DTSTART;TZID=America/New_York:20250921T130000
DTEND;TZID=America/New_York:20250921T160000
GEO:+39.320876;-76.586033
LAST-MODIFIED:20250923T121316Z
LOCATION:Civic Works' Clifton Mansion, 2701 St. Lo Drive, Baltimore, MD
SUMMARY:Sun Day
URL:https://sunday.earth
X-GBCA-NID:38802
END:VEVENT
END:VCALENDAR
