BEGIN:VCALENDAR
VERSION:2.0
PRODID:-//Date iCal v2.14-dev//NONSGML kigkonsult.se iCalcreator 2.16.6//
METHOD:PUBLISH
X-WR-CALNAME;VALUE=TEXT:Greater Baltimore Cultural Alliance
BEGIN:VTIMEZONE
TZID:America/New_York
BEGIN:STANDARD
DTSTART:20251102T020000
TZOFFSETFROM:-0400
TZOFFSETTO:-0500
RDATE:20261101T020000
TZNAME:EST
END:STANDARD
BEGIN:DAYLIGHT
DTSTART:20260308T020000
TZOFFSETFROM:-0500
TZOFFSETTO:-0400
TZNAME:EDT
END:DAYLIGHT
END:VTIMEZONE
BEGIN:VEVENT
UID:calendar.38782.field_fc_date.0@culturefly.org
DTSTAMP:20260424T100235Z
ATTACH;FMTTYPE=image/png:https://culturefly.org/sites/default/files/event-i
 mage/Visit%20Baltimore%20Event%20Graphic%20dig%20x.png
CATEGORIES:Activities,Nightlife
CREATED:20250916T192422Z
DESCRIPTION:Baltimore's fav QTIBIPOC DIY Collective returns with a night of
  local DJs.
DTSTART;TZID=America/New_York:20251024T210000
DTEND;TZID=America/New_York:20251025T010000
LAST-MODIFIED:20250923T121322Z
LOCATION:Le Mondo, 406 North Howard Street, Baltimore, MD
SUMMARY:Digital Xscape
URL:https://www.lemondo.org/events/dj-rave-digital-xscape
X-GBCA-NID:38782
END:VEVENT
BEGIN:VEVENT
UID:calendar.38782.field_fc_date.0@culturefly.org
DTSTAMP:20260424T100235Z
ATTACH;FMTTYPE=image/png:https://culturefly.org/sites/default/files/event-i
 mage/Visit%20Baltimore%20Event%20Graphic%20dig%20x.png
CATEGORIES:Activities,Nightlife
CREATED:20250916T192422Z
DESCRIPTION:Baltimore's fav QTIBIPOC DIY Collective returns with a night of
  local DJs.
DTSTART;TZID=America/New_York:20251115T210000
DTEND;TZID=America/New_York:20251116T010000
LAST-MODIFIED:20250923T121322Z
LOCATION:Le Mondo, 406 North Howard Street, Baltimore, MD
SUMMARY:Digital Xscape
URL:https://www.lemondo.org/events/dj-rave-digital-xscape
X-GBCA-NID:38782
END:VEVENT
BEGIN:VEVENT
UID:calendar.38782.field_fc_date.0@culturefly.org
DTSTAMP:20260424T100235Z
ATTACH;FMTTYPE=image/png:https://culturefly.org/sites/default/files/event-i
 mage/Visit%20Baltimore%20Event%20Graphic%20dig%20x.png
CATEGORIES:Activities,Nightlife
CREATED:20250916T192422Z
DESCRIPTION:Baltimore's fav QTIBIPOC DIY Collective returns with a night of
  local DJs.
DTSTART;TZID=America/New_York:20251220T210000
DTEND;TZID=America/New_York:20251221T010000
LAST-MODIFIED:20250923T121322Z
LOCATION:Le Mondo, 406 North Howard Street, Baltimore, MD
SUMMARY:Digital Xscape
URL:https://www.lemondo.org/events/dj-rave-digital-xscape
X-GBCA-NID:38782
END:VEVENT
END:VCALENDAR
