BEGIN:VCALENDAR
VERSION:2.0
PRODID:-//Date iCal v2.14-dev//NONSGML kigkonsult.se iCalcreator 2.16.6//
METHOD:PUBLISH
X-WR-CALNAME;VALUE=TEXT:Greater Baltimore Cultural Alliance
BEGIN:VTIMEZONE
TZID:America/New_York
BEGIN:STANDARD
DTSTART:20251102T020000
TZOFFSETFROM:-0400
TZOFFSETTO:-0500
TZNAME:EST
END:STANDARD
BEGIN:DAYLIGHT
DTSTART:20260308T020000
TZOFFSETFROM:-0500
TZOFFSETTO:-0400
TZNAME:EDT
END:DAYLIGHT
END:VTIMEZONE
BEGIN:VEVENT
UID:calendar.38781.field_fc_date.0@culturefly.org
DTSTAMP:20260420T123351Z
ATTACH;FMTTYPE=image/png:https://culturefly.org/sites/default/files/event-i
 mage/Visit%20Baltimore%20Event%20Graphic%2010.18.png
CATEGORIES:Performance,History & Heritage,Nightlife
CREATED:20250916T191816Z
DESCRIPTION:Join us for the Baltimore debut of *Tarwa N-Tiniri*, a five pi
 ece Amazigh  (Berber) band blending traditional Amazigh melodies with blue
 s, jazz, reggae,  rock, and Gnaoua rhythms. Supported by Baltimore's *
 Mowder Oyal*!\n\nDoors/Bar: 7:30PM Show: 8PM
DTSTART;TZID=America/New_York:20251018T200000
DTEND;TZID=America/New_York:20251018T223000
LAST-MODIFIED:20250923T121322Z
LOCATION:Le Mondo, 406 North Howard Street, Baltimore, MD
SUMMARY:Tarwa N-Tiniri (Morocco) with Mowder Oyal
URL:https://www.lemondo.org/events/music-tarwa-n-tiniri-morocco
X-GBCA-NID:38781
END:VEVENT
END:VCALENDAR
