BEGIN:VCALENDAR
VERSION:2.0
PRODID:-//Date iCal v2.14-dev//NONSGML kigkonsult.se iCalcreator 2.16.6//
METHOD:PUBLISH
X-WR-CALNAME;VALUE=TEXT:Greater Baltimore Cultural Alliance
BEGIN:VTIMEZONE
TZID:America/New_York
BEGIN:STANDARD
DTSTART:20251102T020000
TZOFFSETFROM:-0400
TZOFFSETTO:-0500
TZNAME:EST
END:STANDARD
BEGIN:DAYLIGHT
DTSTART:20260308T020000
TZOFFSETFROM:-0500
TZOFFSETTO:-0400
TZNAME:EDT
END:DAYLIGHT
END:VTIMEZONE
BEGIN:VEVENT
UID:calendar.38780.field_fc_date.0@culturefly.org
DTSTAMP:20260420T151740Z
ATTACH;FMTTYPE=image/png:https://culturefly.org/sites/default/files/event-i
 mage/Visit%20Baltimore%20Event%20Graphic%2010.17.png
CATEGORIES:Performance,Nightlife
CREATED:20250916T191307Z
DESCRIPTION:A night of theatrical chamber pop and intricate folk sounds fro
 m local and  visiting artists\n\n*Oropendola *is the project of Brooklyn-b
 ased singer, composer, and  keyboardist Joanna Schubert, whose music bl
 ends theatrical chamber pop,  playful dissonance, and lyrical storytelli
 ng. Her songs move between the  whimsical and the intimate, drawing from 
 keys-based art-pop and indie-folk  traditions.\n\nDoors/Bar: 7:30PM Show: 
 8PM
DTSTART;TZID=America/New_York:20251017T200000
DTEND;TZID=America/New_York:20251017T220000
LAST-MODIFIED:20250923T121322Z
LOCATION:Le Mondo, 406 North Howard Street, Baltimore, MD
SUMMARY:Oropendola & Friends
URL:https://www.lemondo.org/events/music-oropendola-friends
X-GBCA-NID:38780
END:VEVENT
END:VCALENDAR
