BEGIN:VCALENDAR
VERSION:2.0
PRODID:-//Date iCal v2.14-dev//NONSGML kigkonsult.se iCalcreator 2.16.6//
METHOD:PUBLISH
X-WR-CALNAME;VALUE=TEXT:Greater Baltimore Cultural Alliance
BEGIN:VTIMEZONE
TZID:America/New_York
BEGIN:STANDARD
DTSTART:20251102T020000
TZOFFSETFROM:-0400
TZOFFSETTO:-0500
TZNAME:EST
END:STANDARD
BEGIN:DAYLIGHT
DTSTART:20260308T020000
TZOFFSETFROM:-0500
TZOFFSETTO:-0400
TZNAME:EDT
END:DAYLIGHT
END:VTIMEZONE
BEGIN:VEVENT
UID:calendar.38776.field_fc_date.0@culturefly.org
DTSTAMP:20260420T151835Z
ATTACH;FMTTYPE=image/png:https://culturefly.org/sites/default/files/event-i
 mage/Visit%20Baltimore%20Event%20Graphic%2010.4.png
CATEGORIES:Exhibition,Performance,Lectures/ Workshops,Activities,Histor
 y & Heritage
CREATED:20250916T185352Z
DESCRIPTION:A *multi-disciplinary literary event honoring Afro-Haitian heri
 tage, roots,  and cultural traditions*. The evening includes an herbal m
 ixology workshop,  interactive installation, book talk, and performance
 s for the book release of  Esterline Vielot's /Coconut Paradise/.\n\nPart 
 interactive installation, part performance, the evening centers around  
 Afro-Haitian heritage, roots, and traditions as well as the experience o
 f  reconnecting to these ancestral legacies to gain more complex perspecti
 ves of  one's self and the world around them.
DTSTART;TZID=America/New_York:20251004T173000
DTEND;TZID=America/New_York:20251004T200000
LAST-MODIFIED:20250923T121324Z
LOCATION:Le Mondo, 406 North Howard Street, Baltimore, MD
SUMMARY:Homage to our Ancestors
URL:https://www.lemondo.org/events/lit-homage-to-our-ancestors
X-GBCA-NID:38776
END:VEVENT
END:VCALENDAR
