BEGIN:VCALENDAR
VERSION:2.0
PRODID:-//Date iCal v2.14-dev//NONSGML kigkonsult.se iCalcreator 2.16.6//
METHOD:PUBLISH
X-WR-CALNAME;VALUE=TEXT:Greater Baltimore Cultural Alliance
BEGIN:VTIMEZONE
TZID:America/New_York
BEGIN:STANDARD
DTSTART:20251102T020000
TZOFFSETFROM:-0400
TZOFFSETTO:-0500
TZNAME:EST
END:STANDARD
BEGIN:DAYLIGHT
DTSTART:20260308T020000
TZOFFSETFROM:-0500
TZOFFSETTO:-0400
TZNAME:EDT
END:DAYLIGHT
END:VTIMEZONE
BEGIN:VEVENT
UID:calendar.38775.field_fc_date.0@culturefly.org
DTSTAMP:20260420T115737Z
ATTACH;FMTTYPE=image/png:https://culturefly.org/sites/default/files/event-i
 mage/Visit%20Baltimore%20Event%20Graphic%2010.3.png
CATEGORIES:Exhibition,Nightlife
CREATED:20250916T185142Z
DESCRIPTION:Le Mondo presents a pop-up from *DEADLY PREY* featuring an *exh
 ibition of  hand-painted Ghanaian movie posters* from the Ghanaian mobile 
 cinema movement  of the 1980s to present.\n\nDEADLY PREY is a Chicago-base
 d gallery dedicated to the preservation of  hand-painted Ghanaian movie po
 sters and its artistic tradition, while  supporting the artists currently
  painting in Ghana.\n\nWorks and prints during this one-night-only exhibit
 ion will be available for  purchase.
DTSTART;TZID=America/New_York:20251003T190000
DTEND;TZID=America/New_York:20251003T220000
LAST-MODIFIED:20250923T121324Z
LOCATION:Le Mondo, 406 North Howard Street, Baltimore, MD
SUMMARY:Deadly Prey Gallery Pop Up
URL:https://www.lemondo.org/events/exhibition-deadly-prey-gallery-chicago
X-GBCA-NID:38775
END:VEVENT
END:VCALENDAR
