BEGIN:VCALENDAR
VERSION:2.0
PRODID:-//Date iCal v2.14-dev//NONSGML kigkonsult.se iCalcreator 2.16.6//
METHOD:PUBLISH
X-WR-CALNAME;VALUE=TEXT:Greater Baltimore Cultural Alliance
BEGIN:VTIMEZONE
TZID:America/New_York
BEGIN:STANDARD
DTSTART:20251102T020000
TZOFFSETFROM:-0400
TZOFFSETTO:-0500
TZNAME:EST
END:STANDARD
BEGIN:DAYLIGHT
DTSTART:20260308T020000
TZOFFSETFROM:-0500
TZOFFSETTO:-0400
TZNAME:EDT
END:DAYLIGHT
END:VTIMEZONE
BEGIN:VEVENT
UID:calendar.38762.field_fc_date.0@culturefly.org
DTSTAMP:20260420T084924Z
ATTACH;FMTTYPE=image/jpeg:https://culturefly.org/sites/default/files/event-
 image/9GcSNOIbjEeKOmrTJGbJmw.large_.jpg
CATEGORIES:Performance,Other
CREATED:20250915T134902Z
DESCRIPTION:Salem, NJ is celebrating its 350th anniversary with Lenape gue
 sts, Quaker and  Underground Railroad reenactors, and live music indoors
  and outdoors for this  day-long event in the historic district of the cit
 y. The FREE event will  feature kid activities, artisan vendors, glass b
 lowing, a fire performance  and carriage rides to keep your family entert
 ained. A grand finale, Light Up  Salem, drone show will cap the day at 7
 pm.
DTSTART;TZID=America/New_York:20251004T110000
DTEND;TZID=America/New_York:20251004T200000
LAST-MODIFIED:20250916T150322Z
LOCATION:Broadway and Market Sts, 58 East Broadway, Salem, NJ
SUMMARY:Salem NJ 350th Anniversary Celebration
URL:http://standupforsalem.com
X-GBCA-NID:38762
END:VEVENT
END:VCALENDAR
