BEGIN:VCALENDAR
VERSION:2.0
PRODID:-//Date iCal v2.14-dev//NONSGML kigkonsult.se iCalcreator 2.16.6//
METHOD:PUBLISH
X-WR-CALNAME;VALUE=TEXT:Greater Baltimore Cultural Alliance
BEGIN:VTIMEZONE
TZID:America/New_York
BEGIN:STANDARD
DTSTART:20261101T020000
TZOFFSETFROM:-0400
TZOFFSETTO:-0500
TZNAME:EST
END:STANDARD
BEGIN:DAYLIGHT
DTSTART:20260308T020000
TZOFFSETFROM:-0500
TZOFFSETTO:-0400
RDATE:20270314T020000
TZNAME:EDT
END:DAYLIGHT
END:VTIMEZONE
BEGIN:VEVENT
UID:calendar.38749.field_fc_date.0@culturefly.org
DTSTAMP:20260420T133357Z
ATTACH;FMTTYPE=image/png:https://culturefly.org/sites/default/files/event-i
 mage/SAMC.png
CATEGORIES:Lectures/ Workshops
CREATED:20250913T005347Z
DESCRIPTION:**Sergio Assad **will give a master class on **Friday, March 2
 7, from 1:00 PM  until 4:00 PM (GMT-4)*. *The class will take place at *A
 n Die Musik in  Baltimore,* in front of a live audience AND will be strea
 med live to  registered users. Performers are students from the Peabody Co
 nservatory. The  time is local to Baltimore, MD, USA
DTSTART;TZID=America/New_York:20260327T130000
DTEND;TZID=America/New_York:20260327T160000
LAST-MODIFIED:20250916T150327Z
LOCATION:An Die Musik Live, 409 North Charles Street Second Floor, Baltim
 ore, MD
SUMMARY:Sergio Assad Masterclass
URL:https://www.bcgs.org/event/sergio-assad-master-class/
X-GBCA-NID:38749
END:VEVENT
END:VCALENDAR
