BEGIN:VCALENDAR
VERSION:2.0
PRODID:-//Date iCal v2.14-dev//NONSGML kigkonsult.se iCalcreator 2.16.6//
METHOD:PUBLISH
X-WR-CALNAME;VALUE=TEXT:Greater Baltimore Cultural Alliance
BEGIN:VTIMEZONE
TZID:America/New_York
BEGIN:STANDARD
DTSTART:20251102T020000
TZOFFSETFROM:-0400
TZOFFSETTO:-0500
RDATE:20261101T020000
TZNAME:EST
END:STANDARD
BEGIN:DAYLIGHT
DTSTART:20260308T020000
TZOFFSETFROM:-0500
TZOFFSETTO:-0400
TZNAME:EDT
END:DAYLIGHT
END:VTIMEZONE
BEGIN:VEVENT
UID:calendar.38732.field_fc_date.0@culturefly.org
DTSTAMP:20260420T090206Z
ATTACH;FMTTYPE=image/jpeg:https://culturefly.org/sites/default/files/event-
 image/Claiborne%20Bridged%20the%20Chesapeake%20book%20launch.jpg
CATEGORIES:Exhibition,Lectures/ Workshops,History & Heritage
CREATED:20250911T170940Z
DESCRIPTION:MCHC Press proudly presents a new publication, /When Claiborne
  Bridged the  Chesapeake: The Rise and Fall of the Ferry Era/, with *Mart
 y Bollinger,  *author and historian. Bollinger explores the trials and tr
 iumphs of  establishing and maintaining ferries as an economically viable 
 mode of  transportation between Maryland’s Western and Eastern Shores duri
 ng the  19th and early-20th centuries from Claiborne, including the polit
 ics of the  day that inspired the desire to connect Baltimore to the Easte
 rn Shore.
DTSTART;TZID=America/New_York:20251106T180000
DTEND;TZID=America/New_York:20251106T200000
LAST-MODIFIED:20250916T150331Z
LOCATION:Maryland Center for History and Culture, 610 Park Avenue, Baltim
 ore, MD
SUMMARY:When Claiborne Bridged the Chesapeake: MCHC Press Book Launch
URL:https://www.mdhistory.org/calendar/when-claiborne-bridged-the-chesapeak
 e-mchc-press-book-launch/
X-GBCA-NID:38732
END:VEVENT
END:VCALENDAR
