BEGIN:VCALENDAR
VERSION:2.0
PRODID:-//Date iCal v2.14-dev//NONSGML kigkonsult.se iCalcreator 2.16.6//
METHOD:PUBLISH
X-WR-CALNAME;VALUE=TEXT:Greater Baltimore Cultural Alliance
BEGIN:VTIMEZONE
TZID:America/New_York
BEGIN:STANDARD
DTSTART:20251102T020000
TZOFFSETFROM:-0400
TZOFFSETTO:-0500
TZNAME:EST
END:STANDARD
BEGIN:DAYLIGHT
DTSTART:20260308T020000
TZOFFSETFROM:-0500
TZOFFSETTO:-0400
TZNAME:EDT
END:DAYLIGHT
END:VTIMEZONE
BEGIN:VEVENT
UID:calendar.38726.field_fc_date.0@culturefly.org
DTSTAMP:20260421T115646Z
ATTACH;FMTTYPE=image/png:https://culturefly.org/sites/default/files/event-i
 mage/Collectors%20Luncheon%20Paca%20House_program%20image.png
CATEGORIES:Exhibition,History & Heritage
CREATED:20250911T164502Z
DESCRIPTION:MCHC invites Patron‑level members and above to a memorable autu
 mn afternoon  at the *William Paca House & Garden* in Annapolis. This thir
 d installment of  the Collectors Luncheon Series offers guests an opportun
 ity to explore one of  Maryland’s most iconic 18th‑century estates while e
 njoying seasonal fare  and conversation with fellow MCHC members. Guests w
 ill hear welcoming remarks  from MCHC leadership and representatives from 
 Historic Annapolis.
DTSTART;TZID=America/New_York:20251005T113000
DTEND;TZID=America/New_York:20251005T150000
LAST-MODIFIED:20250916T150333Z
LOCATION:Maryland Center for History and Culture, 610 Park Avenue, Baltim
 ore, MD
SUMMARY:Collectors Luncheon Series—Paca House
URL:https://www.mdhistory.org/calendar/collectors-luncheon-series-paca-hous
 e/
X-GBCA-NID:38726
END:VEVENT
END:VCALENDAR
