BEGIN:VCALENDAR
VERSION:2.0
PRODID:-//Date iCal v2.14-dev//NONSGML kigkonsult.se iCalcreator 2.16.6//
METHOD:PUBLISH
X-WR-CALNAME;VALUE=TEXT:Greater Baltimore Cultural Alliance
BEGIN:VTIMEZONE
TZID:America/New_York
BEGIN:STANDARD
DTSTART:20251102T020000
TZOFFSETFROM:-0400
TZOFFSETTO:-0500
TZNAME:EST
END:STANDARD
BEGIN:DAYLIGHT
DTSTART:20260308T020000
TZOFFSETFROM:-0500
TZOFFSETTO:-0400
TZNAME:EDT
END:DAYLIGHT
END:VTIMEZONE
BEGIN:VEVENT
UID:calendar.38706.field_fc_date.0@culturefly.org
DTSTAMP:20260421T200658Z
ATTACH;FMTTYPE=image/jpeg:https://culturefly.org/sites/default/files/event-
 image/SJP_choir_looking_058.jpg
CATEGORIES:Performance
CREATED:20250909T221452Z
DESCRIPTION:Bach in Baltimore's Choir and Orchestra present a famous Bach C
 antata -  Cantata 7 'Christ unser Herr, zum Jordan kam' as well as two Te
 lemann  Concerti for Oboes
DTSTART;TZID=America/New_York:20251005T160000
DTEND;TZID=America/New_York:20251005T173000
GEO:+39.530946;-76.342421
LAST-MODIFIED:20250910T171936Z
LOCATION:Bel Air United Methodist Church, 21 Linwood Ave, Bel Air, MD
SUMMARY:Bach in Baltimore presents Cantata 7 and Telemann Concerti
URL:www.bachinbaltimore.org
X-GBCA-NID:38706
END:VEVENT
END:VCALENDAR
