BEGIN:VCALENDAR
VERSION:2.0
PRODID:-//Date iCal v2.14-dev//NONSGML kigkonsult.se iCalcreator 2.16.6//
METHOD:PUBLISH
X-WR-CALNAME;VALUE=TEXT:Greater Baltimore Cultural Alliance
BEGIN:VTIMEZONE
TZID:America/New_York
BEGIN:STANDARD
DTSTART:20251102T020000
TZOFFSETFROM:-0400
TZOFFSETTO:-0500
TZNAME:EST
END:STANDARD
BEGIN:DAYLIGHT
DTSTART:20260308T020000
TZOFFSETFROM:-0500
TZOFFSETTO:-0400
TZNAME:EDT
END:DAYLIGHT
END:VTIMEZONE
BEGIN:VEVENT
UID:calendar.38703.field_fc_date.0@culturefly.org
DTSTAMP:20260420T180250Z
ATTACH;FMTTYPE=image/jpeg:https://culturefly.org/sites/default/files/event-
 image/MSM_A%20Softness%20in%20the%20break_v2..jpeg
CATEGORIES:Exhibition
CREATED:20250909T210611Z
DESCRIPTION:*FOR IMMEDIATE RELEASE*\n\n*Melissa Sutherland Moss: /A Softnes
 s In The Break/ August 25 – December 13, 2025 Reception:* Monday, Octobe
 r 20, 12:30–2 PM
DTSTART;TZID=America/New_York:20251020T123000
DTEND;TZID=America/New_York:20251020T140000
LAST-MODIFIED:20250910T171919Z
LOCATION:Stevenson University School of Design, Arts and Communication, 1
 1100 Ted Herget Way, Owings Mills North Campus, Owings Mills, MD
SUMMARY:Melissa Sutherland Moss: The Softness In The Break exhibition recep
 tion
URL:https://now.stevenson.edu/artsalive/
X-GBCA-NID:38703
END:VEVENT
END:VCALENDAR
