BEGIN:VCALENDAR
VERSION:2.0
PRODID:-//Date iCal v2.14-dev//NONSGML kigkonsult.se iCalcreator 2.16.6//
METHOD:PUBLISH
X-WR-CALNAME;VALUE=TEXT:Greater Baltimore Cultural Alliance
BEGIN:VTIMEZONE
TZID:America/New_York
BEGIN:STANDARD
DTSTART:20251102T020000
TZOFFSETFROM:-0400
TZOFFSETTO:-0500
TZNAME:EST
END:STANDARD
BEGIN:DAYLIGHT
DTSTART:20260308T020000
TZOFFSETFROM:-0500
TZOFFSETTO:-0400
TZNAME:EDT
END:DAYLIGHT
END:VTIMEZONE
BEGIN:VEVENT
UID:calendar.38689.field_fc_date.0@culturefly.org
DTSTAMP:20260421T213640Z
ATTACH;FMTTYPE=image/png:https://culturefly.org/sites/default/files/event-i
 mage/SL25%20CK%20Noa.png
CATEGORIES:Performance,Outdoors
CREATED:20250908T162045Z
DESCRIPTION:Join us for a delightful celebration of stories for the entire 
 family with  internationally acclaimed storyteller and author Noa Baum. Wi
 th warmth,  humor, and vivid characters, Noa shares captivating stories
  from diverse  cultures that highlight our similarities and celebrate our 
 differences.\n\n*Gates open at 10 a.m. Join us early to play in the park!*
DTSTART;TZID=America/New_York:20251005T110000
DTEND;TZID=America/New_York:20251005T120000
GEO:+39.209425;-76.861816
LAST-MODIFIED:20250910T171614Z
LOCATION:Chrysalis, Merriweather Park at Symphony Woods, Merriweather Par
 k, Columbia, MD
SUMMARY:Chrysalis Kids: Noa Baum's Once Upon a Kindness
URL:https://ChrysalisKidsNoaBaum.eventbrite.com
X-GBCA-NID:38689
END:VEVENT
END:VCALENDAR
