BEGIN:VCALENDAR
VERSION:2.0
PRODID:-//Date iCal v2.14-dev//NONSGML kigkonsult.se iCalcreator 2.16.6//
METHOD:PUBLISH
X-WR-CALNAME;VALUE=TEXT:Greater Baltimore Cultural Alliance
BEGIN:VTIMEZONE
TZID:America/New_York
BEGIN:STANDARD
DTSTART:20251102T020000
TZOFFSETFROM:-0400
TZOFFSETTO:-0500
TZNAME:EST
END:STANDARD
BEGIN:DAYLIGHT
DTSTART:20260308T020000
TZOFFSETFROM:-0500
TZOFFSETTO:-0400
TZNAME:EDT
END:DAYLIGHT
END:VTIMEZONE
BEGIN:VEVENT
UID:calendar.38684.field_fc_date.0@culturefly.org
DTSTAMP:20260421T163747Z
ATTACH;FMTTYPE=image/png:https://culturefly.org/sites/default/files/event-i
 mage/Devotion%2C%20Dreams%20and%20Devotion-%20Flyer.png
CATEGORIES:Exhibition,Baker Artist,History & Heritage,GBCA Events
CREATED:20250907T155132Z
DESCRIPTION:*Eubie Blake Cultural Center *is pleased to present* Devotion,
  Dreams, and  Destiny, a solo exhibition of works by the Nigerian–born T
 ransdisciplinary  Artist, VILLAGER (b. A. Adekunle Adaranijo) on view fro
 m September 11 to  October 11, 2025.*
DTSTART;TZID=America/New_York:20250912T180000
DTEND;TZID=America/New_York:20250912T200000
LAST-MODIFIED:20250908T011513Z
LOCATION:Eubie Blake Cultural Center, 847 N Howard Street, Baltimore, MD
SUMMARY:Devotion, Dreams, and Destiny solo exhibition by Nigerian–born  T
 ransdisciplinary Artist, VILLAGER
URL:www.vllager.com
X-GBCA-NID:38684
END:VEVENT
BEGIN:VEVENT
UID:calendar.38684.field_fc_date.0@culturefly.org
DTSTAMP:20260421T163747Z
ATTACH;FMTTYPE=image/png:https://culturefly.org/sites/default/files/event-i
 mage/Devotion%2C%20Dreams%20and%20Devotion-%20Flyer.png
CATEGORIES:Exhibition,Baker Artist,History & Heritage,GBCA Events
CREATED:20250907T155132Z
DESCRIPTION:*Eubie Blake Cultural Center *is pleased to present* Devotion,
  Dreams, and  Destiny, a solo exhibition of works by the Nigerian–born T
 ransdisciplinary  Artist, VILLAGER (b. A. Adekunle Adaranijo) on view fro
 m September 11 to  October 11, 2025.*
DTSTART;TZID=America/New_York:20250913T110000
DTEND;TZID=America/New_York:20251011T180000
LAST-MODIFIED:20250908T011513Z
LOCATION:Eubie Blake Cultural Center, 847 N Howard Street, Baltimore, MD
RRULE:FREQ=WEEKLY;UNTIL=20251012T075959Z;INTERVAL=1;BYDAY=WE,TH,FR;WKST=SU
SUMMARY:Devotion, Dreams, and Destiny solo exhibition by Nigerian–born  T
 ransdisciplinary Artist, VILLAGER
URL:www.vllager.com
X-GBCA-NID:38684
END:VEVENT
END:VCALENDAR
