BEGIN:VCALENDAR
VERSION:2.0
PRODID:-//Date iCal v2.14-dev//NONSGML kigkonsult.se iCalcreator 2.16.6//
METHOD:PUBLISH
X-WR-CALNAME;VALUE=TEXT:Greater Baltimore Cultural Alliance
BEGIN:VTIMEZONE
TZID:America/New_York
BEGIN:STANDARD
DTSTART:20251102T020000
TZOFFSETFROM:-0400
TZOFFSETTO:-0500
TZNAME:EST
END:STANDARD
BEGIN:DAYLIGHT
DTSTART:20260308T020000
TZOFFSETFROM:-0500
TZOFFSETTO:-0400
TZNAME:EDT
END:DAYLIGHT
END:VTIMEZONE
BEGIN:VEVENT
UID:calendar.38667.field_fc_date.0@culturefly.org
DTSTAMP:20260420T102204Z
ATTACH;FMTTYPE=image/jpeg:https://culturefly.org/sites/default/files/event-
 image/20251023_Music.jpg
CATEGORIES:Performance
CREATED:20250903T170025Z
DESCRIPTION:The Towson University Music Ensembles will celebrate Latin Amer
 ican music by  showcasing the compositions of guest composer Sonia Morales
 -Matos for chorus,  symphony orchestra, symphonic band, and percussion 
 ensemble.
DTSTART;TZID=America/New_York:20251023T193000
DTEND;TZID=America/New_York:20251023T223000
GEO:+39.390922;-76.612522
LAST-MODIFIED:20250908T011513Z
LOCATION:Towson University Center For The Arts, 1 Fine Arts Drive, towson
 , MD
SUMMARY:TU Music Ensembles Celebrate Latin America
URL:https://tickets.tuboxoffice.com/eventperformances.asp?evt=271
X-GBCA-NID:38667
END:VEVENT
END:VCALENDAR
