BEGIN:VCALENDAR
VERSION:2.0
PRODID:-//Date iCal v2.14-dev//NONSGML kigkonsult.se iCalcreator 2.16.6//
METHOD:PUBLISH
X-WR-CALNAME;VALUE=TEXT:Greater Baltimore Cultural Alliance
BEGIN:VTIMEZONE
TZID:America/New_York
BEGIN:STANDARD
DTSTART:20251102T020000
TZOFFSETFROM:-0400
TZOFFSETTO:-0500
RDATE:20261101T020000
TZNAME:EST
END:STANDARD
BEGIN:DAYLIGHT
DTSTART:20260308T020000
TZOFFSETFROM:-0500
TZOFFSETTO:-0400
TZNAME:EDT
END:DAYLIGHT
END:VTIMEZONE
BEGIN:VEVENT
UID:calendar.38590.field_fc_date.0@culturefly.org
DTSTAMP:20260421T115955Z
ATTACH;FMTTYPE=image/jpeg:https://culturefly.org/sites/default/files/event-
 image/ASG_12.2.25Simone%20Leigh%2C%20Brick%20House%20%28on%20the%20Univers
 ity%20of%20PA%20campus%29.jpg
CATEGORIES:Lectures/ Workshops
CREATED:20250829T161836Z
DESCRIPTION:*/Contemporary Women Artists: Five Remarkable Examples/* with N
 ancy G.  Heller, Professor Emerita of the University of the Arts in Phila
 delphia
DTSTART;TZID=America/New_York:20251202T133000
DTEND;TZID=America/New_York:20251202T150000
LAST-MODIFIED:20250902T153318Z
LOCATION:The Woman's Club of Roland Park, 4500 Roland Avenue, Baltimore,
  MD
SUMMARY:Contemporary Women Artists: Five Remarkable Examples
URL:https://www.artseminargroup.org/events/contemporary-women-artists-five-
 remarkable-examples
X-GBCA-NID:38590
END:VEVENT
END:VCALENDAR
