BEGIN:VCALENDAR
VERSION:2.0
PRODID:-//Date iCal v2.14-dev//NONSGML kigkonsult.se iCalcreator 2.16.6//
METHOD:PUBLISH
X-WR-CALNAME;VALUE=TEXT:Greater Baltimore Cultural Alliance
BEGIN:VTIMEZONE
TZID:America/New_York
BEGIN:STANDARD
DTSTART:20251102T020000
TZOFFSETFROM:-0400
TZOFFSETTO:-0500
RDATE:20261101T020000
TZNAME:EST
END:STANDARD
BEGIN:DAYLIGHT
DTSTART:20260308T020000
TZOFFSETFROM:-0500
TZOFFSETTO:-0400
TZNAME:EDT
END:DAYLIGHT
END:VTIMEZONE
BEGIN:VEVENT
UID:calendar.38584.field_fc_date.0@culturefly.org
DTSTAMP:20260420T133548Z
ATTACH;FMTTYPE=image/jpeg:https://culturefly.org/sites/default/files/event-
 image/ASG_11.4.25%20CvilleSunLRcopy_0.JPG
CATEGORIES:Lectures/ Workshops
CREATED:20250829T145341Z
DESCRIPTION:Anthropologist Linda Rabben surveys the rich tradition and soci
 al context of  stained-glass decoration in Baltimore’s built environment,
  from 1850 to the  present. A slide show illustrates a few of the hundreds
  of panels she  photographed during three years of research in libraries,
  museums, homes,  houses of worship, public buildings and the streets o
 f Baltimore City and  surrounding counties.\n\n/$15 fee for guests and sub
 scribers (no fee for members)/
DTSTART;TZID=America/New_York:20251104T133000
DTEND;TZID=America/New_York:20251104T150000
LAST-MODIFIED:20250902T153318Z
LOCATION:The Woman's Club of Roland Park, 4500 Roland Avenue, Baltimore,
  MD
SUMMARY:Through a Glass Darkly: Stained Glass in Baltimore
URL:https://www.artseminargroup.org/events/through-a-glass-darkly-stained-g
 lass-in-baltimore
X-GBCA-NID:38584
END:VEVENT
END:VCALENDAR
