BEGIN:VCALENDAR
VERSION:2.0
PRODID:-//Date iCal v2.14-dev//NONSGML kigkonsult.se iCalcreator 2.16.6//
METHOD:PUBLISH
X-WR-CALNAME;VALUE=TEXT:Greater Baltimore Cultural Alliance
BEGIN:VTIMEZONE
TZID:America/New_York
BEGIN:STANDARD
DTSTART:20251102T020000
TZOFFSETFROM:-0400
TZOFFSETTO:-0500
TZNAME:EST
END:STANDARD
BEGIN:DAYLIGHT
DTSTART:20260308T020000
TZOFFSETFROM:-0500
TZOFFSETTO:-0400
TZNAME:EDT
END:DAYLIGHT
END:VTIMEZONE
BEGIN:VEVENT
UID:calendar.38561.field_fc_date.0@culturefly.org
DTSTAMP:20260421T200718Z
ATTACH;FMTTYPE=image/jpeg:https://culturefly.org/sites/default/files/event-
 image/20250911_Art_EhibitionEttyYaniv.jpg
CATEGORIES:Exhibition
CREATED:20250827T191625Z
DESCRIPTION:*On View: September 12 - October 11* Gallery Hours: Tuesday - S
 aturday 11 a.m. - 8 p.m.
DTSTART;TZID=America/New_York:20250912T110000
DTEND;TZID=America/New_York:20251011T200000
GEO:+39.39131;-76.612837
LAST-MODIFIED:20250902T153324Z
LOCATION:Center for the Arts at Towson University , 7700 Osler Drive, Tow
 son, MD
SUMMARY:Exhibition | Etty Yaniv: Adrift in the Sargasso Sea
URL:https://tickets.tuboxoffice.com/eventperformances.asp?evt=99
X-GBCA-NID:38561
END:VEVENT
END:VCALENDAR
