BEGIN:VCALENDAR
VERSION:2.0
PRODID:-//Date iCal v2.14-dev//NONSGML kigkonsult.se iCalcreator 2.16.6//
METHOD:PUBLISH
X-WR-CALNAME;VALUE=TEXT:Greater Baltimore Cultural Alliance
BEGIN:VTIMEZONE
TZID:America/New_York
BEGIN:STANDARD
DTSTART:20261101T020000
TZOFFSETFROM:-0400
TZOFFSETTO:-0500
TZNAME:EST
END:STANDARD
BEGIN:DAYLIGHT
DTSTART:20260308T020000
TZOFFSETFROM:-0500
TZOFFSETTO:-0400
TZNAME:EDT
END:DAYLIGHT
END:VTIMEZONE
BEGIN:VEVENT
UID:calendar.38541.field_fc_date.0@culturefly.org
DTSTAMP:20260420T115459Z
ATTACH;FMTTYPE=image/jpeg:https://culturefly.org/sites/default/files/u888/i
 sidore-denk.jpg
CATEGORIES:Performance
CREATED:20250825T193644Z
DESCRIPTION:With their “polished sonority and well-balanced, tightly synch
 ronized  ensemble” (/Chicago Classical Review/), the young Isidore Quarte
 t has  swiftly soared to prominence, winning the 2022 Banff Competition a
 nd a 2023  Avery Fisher Career Grant. Now, they present a new work writte
 n for them by  foremost American composer and Grammy-winning jazz pianist 
 Billy Childs.  Jeremy Denk, “a pianist you want to hear no matter what he
  performs”  (/The New York Times/) joins them for Schumann’s expansive Pia
 no Quintet.
DTSTART;TZID=America/New_York:20260308T173000
DTEND;TZID=America/New_York:20260308T200000
GEO:+39.324928;-76.623354
LAST-MODIFIED:20250902T153332Z
LOCATION:Shriver Hall,  JHU Homewood Campus, 3400 N. Charles St., Johns 
 Hopkins University, Baltimore, MD
SUMMARY:Isidore String Quartet and Jeremy Denk, piano at Shriver Hall Conc
 ert Series
URL:https://www.shriverconcerts.org/isidore
X-GBCA-NID:38541
END:VEVENT
END:VCALENDAR
