BEGIN:VCALENDAR
VERSION:2.0
PRODID:-//Date iCal v2.14-dev//NONSGML kigkonsult.se iCalcreator 2.16.6//
METHOD:PUBLISH
X-WR-CALNAME;VALUE=TEXT:Greater Baltimore Cultural Alliance
BEGIN:VTIMEZONE
TZID:America/New_York
BEGIN:STANDARD
DTSTART:20261101T020000
TZOFFSETFROM:-0400
TZOFFSETTO:-0500
TZNAME:EST
END:STANDARD
BEGIN:DAYLIGHT
DTSTART:20260308T020000
TZOFFSETFROM:-0500
TZOFFSETTO:-0400
TZNAME:EDT
END:DAYLIGHT
END:VTIMEZONE
BEGIN:VEVENT
UID:calendar.38540.field_fc_date.0@culturefly.org
DTSTAMP:20260420T184551Z
ATTACH;FMTTYPE=image/jpeg:https://culturefly.org/sites/default/files/u888/H
 ewitt-min.jpeg
CATEGORIES:Performance
CREATED:20250825T193308Z
DESCRIPTION:Globally lauded for her Baroque artistry, Canadian pianist Ang
 ela Hewitt won  the prestigious City of Leipzig Bach Medal in 2020 and /Th
 e Daily Telegraph  /has praised her “crispness and clarity” and “exquisite
  precision.”  Her mastery shines in a program of Baroque brilliance: two a
 dventurous Bach  works, the fiery virtuosity of Scarlatti, and Rameau’s 
 elegant Suite No. 2  – her Hyperion recording of which /The Times /(London
 ) hailed as  “magnificent.”
DTSTART;TZID=America/New_York:20260222T173000
DTEND;TZID=America/New_York:20260222T200000
GEO:+39.324928;-76.623354
LAST-MODIFIED:20250902T153332Z
LOCATION:Shriver Hall,  JHU Homewood Campus, 3400 N. Charles St., Johns 
 Hopkins University, Baltimore, MD
SUMMARY:Angela Hewitt, piano at Shriver Hall Concert Series
URL:https://www.shriverconcerts.org/hewitt
X-GBCA-NID:38540
END:VEVENT
END:VCALENDAR
