BEGIN:VCALENDAR
VERSION:2.0
PRODID:-//Date iCal v2.14-dev//NONSGML kigkonsult.se iCalcreator 2.16.6//
METHOD:PUBLISH
X-WR-CALNAME;VALUE=TEXT:Greater Baltimore Cultural Alliance
BEGIN:VTIMEZONE
TZID:America/New_York
BEGIN:STANDARD
DTSTART:20251102T020000
TZOFFSETFROM:-0400
TZOFFSETTO:-0500
RDATE:20261101T020000
TZNAME:EST
END:STANDARD
BEGIN:DAYLIGHT
DTSTART:20260308T020000
TZOFFSETFROM:-0500
TZOFFSETTO:-0400
TZNAME:EDT
END:DAYLIGHT
END:VTIMEZONE
BEGIN:VEVENT
UID:calendar.38533.field_fc_date.0@culturefly.org
DTSTAMP:20260420T154904Z
ATTACH;FMTTYPE=image/jpeg:https://culturefly.org/sites/default/files/u888/m
 eyer%20trio.JPG
CATEGORIES:Performance
CREATED:20250825T190822Z
DESCRIPTION:Described by /The New Yorker /as “the most remarkable virtuoso 
 in the  relatively unchronicled history of his instrument,” seven-time Gr
 ammy  winner Edgar Meyer is the only bassist to receive both the Avery Fis
 her Prize  and a MacArthur Genius Award. Meyer’s new all-star American tri
 o blends  bluegrass roots with classical virtuosity in a program of Bach,
  two early  Meyer trios, and a new work Meyer composed expressly for this
  dynamic  ensemble.
DTSTART;TZID=America/New_York:20251116T173000
DTEND;TZID=America/New_York:20251116T200000
GEO:+39.324928;-76.623354
LAST-MODIFIED:20250902T153622Z
LOCATION:Shriver Hall,  JHU Homewood Campus, 3400 N. Charles St., Johns 
 Hopkins University, Baltimore, MD
SUMMARY:Tessa Lark, violin, Joshua Roman, cello and Edgar Meyer, double
  bass
URL:https://www.shriverconcerts.org/meyertrio
X-GBCA-NID:38533
END:VEVENT
END:VCALENDAR
