BEGIN:VCALENDAR
VERSION:2.0
PRODID:-//Date iCal v2.14-dev//NONSGML kigkonsult.se iCalcreator 2.16.6//
METHOD:PUBLISH
X-WR-CALNAME;VALUE=TEXT:Greater Baltimore Cultural Alliance
BEGIN:VTIMEZONE
TZID:America/New_York
BEGIN:STANDARD
DTSTART:20251102T020000
TZOFFSETFROM:-0400
TZOFFSETTO:-0500
RDATE:20261101T020000
TZNAME:EST
END:STANDARD
BEGIN:DAYLIGHT
DTSTART:20260308T020000
TZOFFSETFROM:-0500
TZOFFSETTO:-0400
TZNAME:EDT
END:DAYLIGHT
END:VTIMEZONE
BEGIN:VEVENT
UID:calendar.38532.field_fc_date.0@culturefly.org
DTSTAMP:20260420T132729Z
ATTACH;FMTTYPE=image/jpeg:https://culturefly.org/sites/default/files/u888/a
 beo.jpg
CATEGORIES:Performance
CREATED:20250825T190341Z
DESCRIPTION:Formed at Juilliard, the Abeo Quartet was the inaugural Gradua
 te String  Quartet in Residence at the University of Delaware (2021-2023).
  Its accolades  already include prizes at the Fischoff, Melbourne, and Y
 ellow Springs  competitions and performances at the Kennedy Center and Lin
 coln Center. The  Quartet channels its energies into the dramatic first qu
 artets of Mendelssohn  and Brahms and the distinctive voice of American co
 mposer Adolphus Hailstork.
DTSTART;TZID=America/New_York:20251108T150000
DTEND;TZID=America/New_York:20251108T170000
GEO:+39.255261;-76.715411
LAST-MODIFIED:20250902T153622Z
LOCATION:University of Maryland Baltimore County - Performing Arts & Humani
 ties Building, 2nd Floor, 231 , 1000 Hilltop Circle, Baltimore, MD
SUMMARY:Abeo String Quartet with Shriver Hall Concert Series
URL:https://www.shriverconcerts.org/concert/abeo
X-GBCA-NID:38532
END:VEVENT
END:VCALENDAR
