BEGIN:VCALENDAR
VERSION:2.0
PRODID:-//Date iCal v2.14-dev//NONSGML kigkonsult.se iCalcreator 2.16.6//
METHOD:PUBLISH
X-WR-CALNAME;VALUE=TEXT:Greater Baltimore Cultural Alliance
BEGIN:VTIMEZONE
TZID:America/New_York
BEGIN:STANDARD
DTSTART:20251102T020000
TZOFFSETFROM:-0400
TZOFFSETTO:-0500
TZNAME:EST
END:STANDARD
BEGIN:DAYLIGHT
DTSTART:20260308T020000
TZOFFSETFROM:-0500
TZOFFSETTO:-0400
TZNAME:EDT
END:DAYLIGHT
END:VTIMEZONE
BEGIN:VEVENT
UID:calendar.38531.field_fc_date.0@culturefly.org
DTSTAMP:20260420T162626Z
ATTACH;FMTTYPE=image/png:https://culturefly.org/sites/default/files/event-i
 mage/Cabaret%20De%20Graw2.png
CATEGORIES:Performance,Activities,Nightlife,Outdoors
CREATED:20250825T184326Z
DESCRIPTION:Join us on September 20 for Cabaret de Graw, a night of music\
 , magic, fire  dancing, and more!\n\nPerformances by Cirque du Slay (fir
 e dancers) and River Barry (bubble  magician). DJ: Elijah of Zodiac Record
 s. Food: Hunt Valley Catering.  Auctions, 50/50, and money wheel. Mural 
 sponsorships will be auctioned off  live at the event!\n\nDress: Cabaret T
 heme or semi-formal/cocktail attire (Event takes place in the Graw Alley m
 ural park, so dress for the weather!)\n\nNote: This is a fundraising even
 t for Harmer's Town Art Center
DTSTART;TZID=America/New_York:20250920T190000
DTEND;TZID=America/New_York:20250920T230000
LAST-MODIFIED:20250902T153622Z
LOCATION:Harmer's Town Art Center Graw Alley, 115 Market Street, Havre de
  Grace, MD
SUMMARY:Cabaret de Graw
URL:https://www.harmerstown.org/cabaret-de-graw
X-GBCA-NID:38531
END:VEVENT
END:VCALENDAR
