BEGIN:VCALENDAR
VERSION:2.0
PRODID:-//Date iCal v2.14-dev//NONSGML kigkonsult.se iCalcreator 2.16.6//
METHOD:PUBLISH
X-WR-CALNAME;VALUE=TEXT:Greater Baltimore Cultural Alliance
BEGIN:VTIMEZONE
TZID:America/New_York
BEGIN:STANDARD
DTSTART:20251102T020000
TZOFFSETFROM:-0400
TZOFFSETTO:-0500
TZNAME:EST
END:STANDARD
BEGIN:DAYLIGHT
DTSTART:20260308T020000
TZOFFSETFROM:-0500
TZOFFSETTO:-0400
TZNAME:EDT
END:DAYLIGHT
END:VTIMEZONE
BEGIN:VEVENT
UID:calendar.38526.field_fc_date.0@culturefly.org
DTSTAMP:20260420T115613Z
ATTACH;FMTTYPE=image/png:https://culturefly.org/sites/default/files/event-i
 mage/700x500%20Calendar.png
CATEGORIES:Performance,Activities,Outdoors
CREATED:20250825T155344Z
DESCRIPTION:*Rhythm & Reels: Date Night by the Lake* *Date:* Friday, Septe
 mber 12, 2025 *Time:* 6:00–8:30 PM *Location:* Middle Branch Park, 3301 
 Waterview Ave., Baltimore, MD\n\nEnjoy a free evening of live music unde
 r the stars, featuring Eyeglasses  (Iain S. Forrest), a singer-songwrite
 r and electric cellist blending pop,  rock, and electronic music. R&B si
 nger Tay Marie will open the show.
DTSTART;TZID=America/New_York:20250912T180000
DTEND;TZID=America/New_York:20250912T203000
GEO:+39.254966;-76.622317
LAST-MODIFIED:20250825T181505Z
LOCATION:Middle Branch Park, 3301 Waterview Ave, Baltimore, MD
SUMMARY:Rhythm & Reels Date Night on the lake
URL;TYPE=URI:https://culturefly.org/calendar/event/38526/rhythm-reels-date-
 night-lake
X-GBCA-NID:38526
END:VEVENT
END:VCALENDAR
