BEGIN:VCALENDAR
VERSION:2.0
PRODID:-//Date iCal v2.14-dev//NONSGML kigkonsult.se iCalcreator 2.16.6//
METHOD:PUBLISH
X-WR-CALNAME;VALUE=TEXT:Greater Baltimore Cultural Alliance
BEGIN:VTIMEZONE
TZID:America/New_York
BEGIN:STANDARD
DTSTART:20251102T020000
TZOFFSETFROM:-0400
TZOFFSETTO:-0500
TZNAME:EST
END:STANDARD
BEGIN:DAYLIGHT
DTSTART:20260308T020000
TZOFFSETFROM:-0500
TZOFFSETTO:-0400
TZNAME:EDT
END:DAYLIGHT
END:VTIMEZONE
BEGIN:VEVENT
UID:calendar.38525.field_fc_date.0@culturefly.org
DTSTAMP:20260420T115727Z
ATTACH;FMTTYPE=image/png:https://culturefly.org/sites/default/files/event-i
 mage/Neil%20Young%20Tribute%20FB%20Event%20-%20Zen%20West%20Oct%202025.png
CATEGORIES:Performance,Nightlife
CREATED:20250825T151155Z
DESCRIPTION:*Join us for an acoustic/electric concert celebrating one of th
 e most iconic  songwriters of all time.*\n\nDC-based band Jackie and The T
 reehorns [1]will head up this jam-packed  tribute concert to legendary ico
 noclast Neil Young. From Neil's work with  Buffalo Springfield and CSNY to
  his raucous feedback entrenched garage rock  heyday(s) with Crazy Horse,
  you can expect to hear 'the hits' as well as some  of his deeper cuts.\n
 \n\n[1] https://jackieandthetreehorns.com/
DTSTART;TZID=America/New_York:20251017T193000
DTEND;TZID=America/New_York:20251017T230000
LAST-MODIFIED:20250825T181521Z
LOCATION:Zen West, 5916 York Rd, Baltimore, MD
SUMMARY:An Evening Celebrating The Music Of Neil Young
URL:https://www.eventbrite.com/e/an-evening-celebrating-the-music-of-neil-y
 oung-tickets-1438505140599
X-GBCA-NID:38525
END:VEVENT
END:VCALENDAR
